BEGIN:VCALENDAR
VERSION:2.0
PRODID:-//http://tainiothiki.gr///NONSGML kigkonsult.se iCalcreator 2.10.15//
METHOD:PUBLISH
BEGIN:VEVENT
UID:20260425T152246EEST-5853u8SDnH@http://tainiothiki.gr/
DTSTAMP:20260425T122246Z
DESCRIPTION:ΜοντέλοΣκηνοθεσία: Κώστας ΣφήκαςΔιάρκεια: 90'Έτος: 1974\nΜια ει
 καστική σύλληψη ανατέμνει το DNA του καπιταλισμού.\nΔείτε την ταινία από 1
 4-17 Μαΐου 2020 εδώ. \nΠροβολή στο πλαίσιο του αφιερώματος 'Η Ταινιοθήκη σ
 το σπίτι ΙΙΙ'\n http://tainiothiki.gr/el/aithouses/programma/event/101-mon
 telo-i-tainiothiki-sto-spiti-iii
DTSTART:20200514T170000Z
DTEND:20200517T170000Z
LOCATION:Στο σπίτι ()
SUMMARY:Μοντέλο | Η Ταινιοθήκη στο σπίτι ΙΙΙ
URL:http://tainiothiki.gr/el/aithouses/programma/event/101-montelo-i-tainio
 thiki-sto-spiti-iii
END:VEVENT
END:VCALENDAR
