BEGIN:VCALENDAR
VERSION:2.0
PRODID:-//http://tainiothiki.gr///NONSGML kigkonsult.se iCalcreator 2.10.15//
METHOD:PUBLISH
BEGIN:VEVENT
UID:20260425T152637EEST-75722dt9tL@http://tainiothiki.gr/
DTSTAMP:20260425T122637Z
DESCRIPTION:ΤόποςΣκηνοθεσία: Αντουανέττα ΑγγελίδηΔιάρκεια: 80'Έτος: 1985\nΗ
  αποδόμηση των οπτικών απολαύσεων και η ανάδυση μιας καινούργιας εικονοποι
 ητικής.\nΔείτε την ταινία από 20-23 Μαΐου 2020 εδώ. \nΠροβολή στο πλαίσιο 
 του αφιερώματος 'Η Ταινιοθήκη στο σπίτι ΙΙΙ'\n http://tainiothiki.gr/el/ai
 thouses/programma/event/104-topos-i-tainiothiki-sto-spiti-iii
DTSTART:20200520T170000Z
DTEND:20200523T170000Z
LOCATION:Στο σπίτι ()
SUMMARY:Τόπος | Η Ταινιοθήκη στο σπίτι ΙΙΙ
URL:http://tainiothiki.gr/el/aithouses/programma/event/104-topos-i-tainioth
 iki-sto-spiti-iii
END:VEVENT
END:VCALENDAR
