BEGIN:VCALENDAR
VERSION:2.0
PRODID:-//http://tainiothiki.gr///NONSGML kigkonsult.se iCalcreator 2.10.15//
METHOD:PUBLISH
BEGIN:VEVENT
UID:20260425T184842EEST-2918mvuXTm@http://tainiothiki.gr/
DTSTAMP:20260425T154842Z
DESCRIPTION:Nollywood Travel Film Festival\n10/05/2023\n20:00 SISTA της Bio
 dun Stephen (95’). Μια μητέρα που μεγαλώνει μόνη τα παιδιά της ζει έναν εφ
 ιάλτη όταν ο πατέρας των παιδιών επιστρέφει στη ζωή τους και μονοπωλεί το 
 ενδιαφέρον τους. Εμπνευσμένη από τη ζωή της μητέρας της\, η σκηνοθέτρια αφ
 ιερώνει την ταινία στις γυναίκες που παλεύουν μόνες να εξασφαλίσουν μια κα
 λύτερη ζωή στα παιδιά τους.   \nΠαρουσία σκηνοθέτιδας.\nΕίσοδος ελεύθερη μ
 ε σειρά προτεραιότητας\nΚατεβάστε τον κατάλογο της εκδήλωσης εδώ.  \n http
 ://tainiothiki.gr/el/aithouses/programma/event/1045-sista-nollywood-travel
 -film-festival
DTSTART:20230510T170000Z
DTEND:20230510T184000Z
LOCATION:Αίθουσα Α (ΙΕΡΑ ΟΔΟΣ 48\, 104 35\, ΚΕΡΑΜΕΙΚΟΣ\, ΑΘΗΝΑ)
SUMMARY:SISTA  - Nollywood Travel Film Festival
URL:http://tainiothiki.gr/el/aithouses/programma/event/1045-sista-nollywood
 -travel-film-festival
END:VEVENT
END:VCALENDAR
