BEGIN:VCALENDAR
VERSION:2.0
PRODID:-//http://tainiothiki.gr///NONSGML kigkonsult.se iCalcreator 2.10.15//
METHOD:PUBLISH
BEGIN:VEVENT
UID:20260425T211406EEST-317982DUpr@http://tainiothiki.gr/
DTSTAMP:20260425T181406Z
DESCRIPTION:Nollywood Travel Film Festival\n12/05/2023\n19:00 FOREIGNER'S G
 OD του Ifan Ifeanyi Michael (118’). Στην αποικιακή Νιγηρία\, ένας άγγλος φ
 ωτογράφος\, ερωτεύεται μία γυναίκα που κατηγορείται ως μάγισσα και ζει υπό
  ζωώδεις συνθήκες.\nΠαρουσία σκηνοθέτη.\nΕίσοδος ελεύθερη με σειρά προτερα
 ιότητας\nΚατεβάστε τον κατάλογο της εκδήλωσης εδώ.  \n http://tainiothiki.
 gr/el/aithouses/programma/event/1049-foreigner-s-god-nollywood-travel-film
 -festival
DTSTART:20230512T160000Z
DTEND:20230512T180000Z
LOCATION:Αίθουσα Α (ΙΕΡΑ ΟΔΟΣ 48\, 104 35\, ΚΕΡΑΜΕΙΚΟΣ\, ΑΘΗΝΑ)
SUMMARY:FOREIGNER'S GOD  - Nollywood Travel Film Festival
URL:http://tainiothiki.gr/el/aithouses/programma/event/1049-foreigner-s-god
 -nollywood-travel-film-festival
END:VEVENT
END:VCALENDAR
