BEGIN:VCALENDAR
VERSION:2.0
PRODID:-//http://tainiothiki.gr///NONSGML kigkonsult.se iCalcreator 2.10.15//
METHOD:PUBLISH
BEGIN:VEVENT
UID:20260425T135921EEST-7843kKvCFh@http://tainiothiki.gr/
DTSTAMP:20260425T105921Z
DESCRIPTION:THE RED BANK. James Joyce: Τα Τετράδιά του\, των ΕλληνικώνΣκηνο
 θεσία: Βουβούλα ΣκούραΔιάρκεια: 30'Έτος: 2013\nΈνα δοκίμιο και ένα οδοιπορ
 ικό στον κορυφαίο εικονοκλάστη του 20ου αιώνα τον Τζέιμς Τζόυς.\nΔείτε την
  ταινία από 23-26 Μαΐου 2020 εδώ. \nΠροβολή στο πλαίσιο του αφιερώματος 'Η
  Ταινιοθήκη στο σπίτι ΙΙΙ'\n http://tainiothiki.gr/el/aithouses/programma/
 event/105-the-red-bank-james-joyce-ta-tetradia-tou-ton-ellinikon-i-tainiot
 hiki-sto-spiti-iii
DTSTART:20200523T170000Z
DTEND:20200526T170000Z
LOCATION:Στο σπίτι ()
SUMMARY:THE RED BANK. James Joyce: Τα Τετράδιά του\, των Ελληνικών  | Η Ται
 νιοθήκη στο σπίτι ΙΙΙ
URL:http://tainiothiki.gr/el/aithouses/programma/event/105-the-red-bank-jam
 es-joyce-ta-tetradia-tou-ton-ellinikon-i-tainiothiki-sto-spiti-iii
END:VEVENT
END:VCALENDAR
