BEGIN:VCALENDAR
VERSION:2.0
PRODID:-//http://tainiothiki.gr///NONSGML kigkonsult.se iCalcreator 2.10.15//
METHOD:PUBLISH
BEGIN:VEVENT
UID:20260425T182532EEST-6307gSAdap@http://tainiothiki.gr/
DTSTAMP:20260425T152532Z
DESCRIPTION:ΘΕΡΙΝΟΣ ΚΙΝΗΜΑΤΟΓΡΑΦΟΣ ΛΑΪΣ\nΔΕΥΤΕΡΑ 27/07\n21:00 Express Scope
 litis | Εξπρες Σκοπελίτης (69'\, Aimilia Milou) Διανομή: AG Films\n Την τα
 ινία προλογίζουν η σκηνοθέτης Αιμιλία Μηλού και η Εύα Στεφανή\n\nΟ Σκοπελί
 της δεν είναι μία απρόσωπη επιχείρηση. Είναι ένα σπίτι για το πλήρωμά του\
 , ένας πολύτιμος φίλος-σωτήρας για τους κατοίκους των Μικρών Κυκλαδων\, έν
 α καράβι που το αγαπούν Έλληνες και ξένοι ταξιδιώτες.\n\nΠΕΡΙΛΗΨΗ\nΟ Σκοπε
 λίτης είναι ένα ξεχωριστό καράβι. \nΈχει πρόσωπο και χαρακτήρα. Μία ολοζών
 τανη προσωπικότητα.\nΤαξιδεύοντας μαζί του\, μπαίνουμε μέσα στη θαλασσινή 
 ζωή των Μικρών Κυκλάδων. Βλέπουμε πώς ζούνε οι ναύτες στο καράβι και πώς ο
 ι κάτοικοι στα νησιά της άγονης γραμμής. Η θάλασσα δίνει χώρο στο χωράφι\,
  ο χορός των κυμάτων οδηγεί στην έκσταση του πανηγυριού\, ένα ερωτικό τραγ
 ούδι φέρνει την τρικυμία.\nΌλα είναι ένα\, συνδέονται με την ομορφιά του τ
 οπίου\, τη δύναμη της φύσης\, τον αγώνα του ανθρώπου να τη δαμάσει και να 
 ζήσει αρμονικά μαζί της. \nΟ ρυθμός και η φόρμα της ταινίας αναδεικνύουν κ
 αι εξυμνούν έναν τρόπο ζωής \nανάμεσα στη θάλασσα και τον ουρανό.\nΗ μουσι
 κή του Αλκίνοου Ιωαννίδη είναι μία σύνθεση από τους ήχους του ίδιου του πλ
 οίου και της φύσης των Μικρών Κυκλάδων.\n\nΣΕΝΑΡΙΟ ΣΚΗΝΟΘΕΣΙΑΑιμιλία Μηλού
 \nΠΑΡΑΓΩΓΟΣΑντιγόνη Γαβριατοπούλου A&amp\;GFilms Media Entertainment LTD\n
 ΣΥΜΠΑΡΑΓΩΓΟΣΓιάννης Εξιντάρης N-TRANCE LTD\, UK \nΔΙΕΥΘΥΝΣΗ ΠΑΡΑΓΩΓΗΣΒαγγέ
 λης Πουλής\nΚΑΜΕΡΑΦίλη Ολσφέσκι\,  Ηλίας Σπυράκης\,\, Παναγιώτης Παπαφράγκ
 ος\, Αιμιλία Μηλού\nΗΧΟΛΗΨΙΑ\nΣτέλιος Μπουζιώτης\, Άρης Παυλίδης\nMONTAZΑι
 μιλία Μηλού\nΜΟΥΣΙΚΗΑλκίνοος Ιωαννίδης\nΕΠΕΞΕΡΓΑΣΙΑ ΕΙΚΟΝΑΣΜάνθος Σάρδης\n
 DCP Άγγελος Μάτζιος\nMIXAGEΚώστας Βαρυπομπιώτης\, Βάλια Τσέρου\n\n-Είσοδος
  για όλες τις αίθουσες: 7€\, 5€* (μειωμένο)\nΚάθε Πέμπτη ισχύει προσφορά ε
 ισόδου για 2 άτομα με ένα εισιτήριο στα 7€\n*Το μειωμένο εισιτήριο αφορά σ
 τις παρακάτω κατηγορίες:μαθητές\, φοιτητές\, άτομα άνω των 65 ετών\, άνεργ
 οι\, άνθρωποι με αναπηρία – ΑμεΑ (ισχύει και για έναν/μία συνοδό)\, δάσκαλ
 οι-καθηγητές\, ατέλειες.\nΠρονόμια μελών σε ΜΜΕ\n-Αθηνόραμα Club (Αθηνόραμ
 α): Από Δευτέρα έως και Πέμπτη\, ειδική τιμή € 5\n  http://tainiothiki.gr/
 el/aithouses/programma/event/128-express-scopelitis-ekspres-skopelitis
DTSTART:20200727T180000Z
DTEND:20200727T194500Z
LOCATION:Θερινό Λαΐς (ΙΕΡΑ ΟΔΟΣ 48\, 104 35\, ΚΕΡΑΜΕΙΚΟΣ\, ΑΘΗΝΑ	)
SUMMARY:Express Scopelitis | Εξπρες Σκοπελίτης
URL:http://tainiothiki.gr/el/aithouses/programma/event/128-express-scopelit
 is-ekspres-skopelitis
END:VEVENT
END:VCALENDAR
