BEGIN:VCALENDAR
VERSION:2.0
PRODID:-//http://tainiothiki.gr///NONSGML kigkonsult.se iCalcreator 2.10.15//
METHOD:PUBLISH
BEGIN:VEVENT
UID:20260425T194757EEST-3571eUEs27@http://tainiothiki.gr/
DTSTAMP:20260425T164757Z
DESCRIPTION: Νέος Φινλανδικός Κινηματογράφος\nΑΙΘΟΥΣΑ Α\nΔευτέρα 25 Μαρτίου
 \n21:30 Ανόητη νεαρή καρδιά / Stupid young heart / Hölmö nuori sydän \n(Se
 lma Vilhunen\, Φινλανδία/ Ολλανδία /Σουηδία\, 2018\, μυθοπλασία\, 102’)\n
 \n\n\n\nΕΙΣΙΤΗΡΙΑ\nΕισιτήριο: 5€ ανά προβολή Κάρτα 3 προβολών / 10 €\nΗλεκ
 τρονική προπώληση: https://tickets.tainiothiki.gr/\nΣημειώνεται πως η κάρτ
 α πολλαπλών προβολών είναι διαθέσιμη μόνο από το φυσικό ταμείο της Ταινιοθ
 ήκης. \n http://tainiothiki.gr/el/aithouses/programma/event/1348-anoiti-ne
 ari-kardia-stupid-young-heart-hoelmoe-nuori-sydan
DTSTART:20240325T193000Z
DTEND:20240325T213000Z
LOCATION:Αίθουσα Α (ΙΕΡΑ ΟΔΟΣ 48\, 104 35\, ΚΕΡΑΜΕΙΚΟΣ\, ΑΘΗΝΑ)
SUMMARY:Ανόητη νεαρή καρδιά / Stupid young heart / Hölmö nuori sydän
URL:http://tainiothiki.gr/el/aithouses/programma/event/1348-anoiti-neari-ka
 rdia-stupid-young-heart-hoelmoe-nuori-sydan
END:VEVENT
END:VCALENDAR
