BEGIN:VCALENDAR
VERSION:2.0
PRODID:-//http://tainiothiki.gr///NONSGML kigkonsult.se iCalcreator 2.10.15//
METHOD:PUBLISH
BEGIN:VEVENT
UID:20260425T182240EEST-7306UxbrGA@http://tainiothiki.gr/
DTSTAMP:20260425T152240Z
DESCRIPTION:Ημέρα Ελληνικού Κινηματογράφου\nΑΙΘΟΥΣΑ Α\nΤρίτη 26 Μαρτίου\n21
 :30 Λευκή νύχτα (Μαριτίνα Πάσσαρη\, 2022\, 14’) / Η βοή του κόσμου (Πέτρος
  Σεβαστίκογλου\, 2021\, 87’)\n\nΛευκή νύχτα\n\n\nΗ βοή του κόσμου\n\n\n\n
 \nΕΙΣΙΤΗΡΙΑ\nΕισιτήριο: 3€ ανά προβολή \nΗλεκτρονική προπώληση: https://ti
 ckets.tainiothiki.gr/\n http://tainiothiki.gr/el/aithouses/programma/event
 /1356-i-voi-tou-kosmou-lefki-nyxta-im-ell-kin-fou
DTSTART:20240326T193000Z
DTEND:20240326T211500Z
LOCATION:Αίθουσα Α (ΙΕΡΑ ΟΔΟΣ 48\, 104 35\, ΚΕΡΑΜΕΙΚΟΣ\, ΑΘΗΝΑ)
SUMMARY:Η βοή του κόσμου & Λευκή νύχτα / Ημ. Ελλ. Κιν/φου
URL:http://tainiothiki.gr/el/aithouses/programma/event/1356-i-voi-tou-kosmo
 u-lefki-nyxta-im-ell-kin-fou
END:VEVENT
END:VCALENDAR
