BEGIN:VCALENDAR
VERSION:2.0
PRODID:-//http://tainiothiki.gr///NONSGML kigkonsult.se iCalcreator 2.10.15//
METHOD:PUBLISH
BEGIN:VEVENT
UID:20260425T205612EEST-0099SI4Uer@http://tainiothiki.gr/
DTSTAMP:20260425T175612Z
DESCRIPTION:Αστυγραφίες στην Οθόνη\nΑΙΘΟΥΣΑ Β\nΠαρασκευή 12 Απριλίου\n21:00
  Υπό κατασκευή / Work in progress / En construcción \n(José Luis Guerín\, 
 Ισπανία\, 2001\, ντοκιμαντέρ\, 125’)\nΑκολουθεί Q&amp\;A με το σκηνοθέτη J
 osé Luis Guerín\nΕπαναληπτική προβολή\n\n\n\n\nΕΙΣΙΤΗΡΙΑ\nΕισιτήριο: 5€ αν
 ά προβολή Κάρτα 3 προβολών / 10 €\nΗλεκτρονική προπώληση: https://tickets.
 tainiothiki.gr/\nΣημειώνεται πως η κάρτα πολλαπλών προβολών είναι διαθέσιμ
 η μόνο από το φυσικό ταμείο της Ταινιοθήκης. \n http://tainiothiki.gr/el/a
 ithouses/programma/event/1389-ypo-kataskevi-work-in-progress-en-construcci
 on-e
DTSTART:20240412T180000Z
DTEND:20240412T203000Z
LOCATION:Αίθουσα Β (ΙΕΡΑ ΟΔΟΣ 48\, 104 35\, ΚΕΡΑΜΕΙΚΟΣ\, ΑΘΗΝΑ)
SUMMARY:Υπό κατασκευή | Work in progress | En construcción (Ε)
URL:http://tainiothiki.gr/el/aithouses/programma/event/1389-ypo-kataskevi-w
 ork-in-progress-en-construccion-e
END:VEVENT
END:VCALENDAR
