BEGIN:VCALENDAR
VERSION:2.0
PRODID:-//http://tainiothiki.gr///NONSGML kigkonsult.se iCalcreator 2.10.15//
METHOD:PUBLISH
BEGIN:VEVENT
UID:20260425T234418EEST-6860dOIXic@http://tainiothiki.gr/
DTSTAMP:20260425T204418Z
DESCRIPTION:Αστυγραφίες στην Οθόνη\nΑΙΘΟΥΣΑ Α\nΚυριακή 14 Απριλίου \n22:00 
 Οι απέναντι (Γιώργος Πανουσόπουλος\, 106’)Προλογίζει ο Γιώργος Πανουσόπουλ
 ος\, σκηνοθέτης\n\n\n\n\nΕΙΣΙΤΗΡΙΑ\nΕισιτήριο: 5€ ανά προβολή Κάρτα 3 προβ
 ολών / 10 €\nΗλεκτρονική προπώληση: https://tickets.tainiothiki.gr/\nΣημει
 ώνεται πως η κάρτα πολλαπλών προβολών είναι διαθέσιμη μόνο από το φυσικό τ
 αμείο της Ταινιοθήκης. \n http://tainiothiki.gr/el/aithouses/programma/eve
 nt/1397-oi-apenanti
DTSTART:20240414T190000Z
DTEND:20240414T205000Z
LOCATION:Αίθουσα Α (ΙΕΡΑ ΟΔΟΣ 48\, 104 35\, ΚΕΡΑΜΕΙΚΟΣ\, ΑΘΗΝΑ)
SUMMARY:Οι απέναντι
URL:http://tainiothiki.gr/el/aithouses/programma/event/1397-oi-apenanti
END:VEVENT
END:VCALENDAR
