BEGIN:VCALENDAR
VERSION:2.0
PRODID:-//http://tainiothiki.gr///NONSGML kigkonsult.se iCalcreator 2.10.15//
METHOD:PUBLISH
BEGIN:VEVENT
UID:20260426T010935EEST-1695vJBvPZ@http://tainiothiki.gr/
DTSTAMP:20260425T220935Z
DESCRIPTION:Αστυγραφίες στην Οθόνη\nΑΙΘΟΥΣΑ Α\nΔευτέρα 15 Απριλίου \n21:15 
 Ανοιχτή επιστολή\nΠρολογίζει ο Γιώργος Σταμπουλόπουλος\, σκηνοθέτης\n\n\n
 \nΕΙΣΙΤΗΡΙΑ\nΕισιτήριο: 5€ ανά προβολή Κάρτα 3 προβολών / 10 €\nΗλεκτρονικ
 ή προπώληση: https://tickets.tainiothiki.gr/\nΣημειώνεται πως η κάρτα πολλ
 απλών προβολών είναι διαθέσιμη μόνο από το φυσικό ταμείο της Ταινιοθήκης. 
 \n http://tainiothiki.gr/el/aithouses/programma/event/1399-anoixti-epistol
 i
DTSTART:20240415T181500Z
DTEND:20240415T194500Z
LOCATION:Αίθουσα Α (ΙΕΡΑ ΟΔΟΣ 48\, 104 35\, ΚΕΡΑΜΕΙΚΟΣ\, ΑΘΗΝΑ)
SUMMARY:Ανοιχτή επιστολή
URL:http://tainiothiki.gr/el/aithouses/programma/event/1399-anoixti-epistol
 i
END:VEVENT
END:VCALENDAR
