BEGIN:VCALENDAR
VERSION:2.0
PRODID:-//http://tainiothiki.gr///NONSGML kigkonsult.se iCalcreator 2.10.15//
METHOD:PUBLISH
BEGIN:VEVENT
UID:20260426T052656EEST-1026HIxupP@http://tainiothiki.gr/
DTSTAMP:20260426T022656Z
DESCRIPTION:Αστυγραφίες στην Οθόνη\nΑΙΘΟΥΣΑ Α\nΤετάρτη 17 Απριλίου \n19:00 
 Χτίστες\, νοικοκυρές και η οικοδόμηση της σύγχρονης Αθήνας\n(Τάσος Λάγγης\
 , Γιάννης Γαϊτανίδης\, 87’ )\nΠρολογίζουν οι Τάσος Λάγγης\, Γιάννης Γαϊταν
 ίδης\, σκηνοθέτες\n\n\n\n\nΕΙΣΙΤΗΡΙΑ\nΕισιτήριο: 5€ ανά προβολή Κάρτα 3 πρ
 οβολών / 10 €\nΗλεκτρονική προπώληση: https://tickets.tainiothiki.gr/\nΣημ
 ειώνεται πως η κάρτα πολλαπλών προβολών είναι διαθέσιμη μόνο από το φυσικό
  ταμείο της Ταινιοθήκης. \n http://tainiothiki.gr/el/aithouses/programma/e
 vent/1401-xtistes-noikokyres-kai-i-oikodomisi-tis-sygxronis-athinas
DTSTART:20240418T160000Z
DTEND:20240418T180000Z
LOCATION:Αίθουσα Α (ΙΕΡΑ ΟΔΟΣ 48\, 104 35\, ΚΕΡΑΜΕΙΚΟΣ\, ΑΘΗΝΑ)
SUMMARY:Χτίστες\, νοικοκυρές και η οικοδόμηση της σύγχρονης Αθήνας
URL:http://tainiothiki.gr/el/aithouses/programma/event/1401-xtistes-noikoky
 res-kai-i-oikodomisi-tis-sygxronis-athinas
END:VEVENT
END:VCALENDAR
