BEGIN:VCALENDAR
VERSION:2.0
PRODID:-//http://tainiothiki.gr///NONSGML kigkonsult.se iCalcreator 2.10.15//
METHOD:PUBLISH
BEGIN:VEVENT
UID:20260426T052554EEST-9863OxBmxJ@http://tainiothiki.gr/
DTSTAMP:20260426T022554Z
DESCRIPTION:Αστυγραφίες στην Οθόνη\nΑΙΘΟΥΣΑ Β\nΤετάρτη 17 Απριλίου\n21:00 Γ
 ια πέντε διαμερίσματα και ένα μαγαζί\n(Γιάννης Σκοπετέας\, 110’)\nΠρολογίζ
 ει ο σκηνοθέτης Γιάννης Σκοπετέας\, Αν. Καθηγητής Σκηνοθεσίας και Εικονολη
 ψίας στον κινηματογράφο και στις ψηφιακές τέχνες\, Πρόεδρος Τμήματος Ψηφια
 κών Τεχνών και Κινηματογράφου\, ΕΚΠΑ\nΕίσοδος ελεύθερη\n\n\n\n\n\nΕΙΣΙΤΗΡΙ
 Α\nΕισιτήριο: 5€ ανά προβολή Κάρτα 3 προβολών / 10 €\nΗλεκτρονική προπώλησ
 η: https://tickets.tainiothiki.gr/\nΣημειώνεται πως η κάρτα πολλαπλών προβ
 ολών είναι διαθέσιμη μόνο από το φυσικό ταμείο της Ταινιοθήκης. \n http://
 tainiothiki.gr/el/aithouses/programma/event/1407-gia-pente-diamerismata-ka
 i-ena-magazi
DTSTART:20240418T180000Z
DTEND:20240418T200000Z
LOCATION:Αίθουσα Β (ΙΕΡΑ ΟΔΟΣ 48\, 104 35\, ΚΕΡΑΜΕΙΚΟΣ\, ΑΘΗΝΑ)
SUMMARY:Για πέντε διαμερίσματα και ένα μαγαζί
URL:http://tainiothiki.gr/el/aithouses/programma/event/1407-gia-pente-diame
 rismata-kai-ena-magazi
END:VEVENT
END:VCALENDAR
