BEGIN:VCALENDAR
VERSION:2.0
PRODID:-//http://tainiothiki.gr///NONSGML kigkonsult.se iCalcreator 2.10.15//
METHOD:PUBLISH
BEGIN:VEVENT
UID:20260426T012541EEST-2801Zo11OC@http://tainiothiki.gr/
DTSTAMP:20260425T222541Z
DESCRIPTION:13ο Φεστιβάλ Πρωτοποριακού Κινηματογράφου Αθηνών | 13th Athens 
 Avant Garde Film Festival\nΑΙΘΟΥΣΑ Α\nΣΑΒΒΑΤΟ 14 ΔΕΚΕΜΒΡΙΟΥ\n20:00 Συλλογι
 κός μονόλογος | Monólogo colectivo | Collective Monologue (Jessica Sarah R
 inland\, 2024\, Ντοκιμαντέρ / Documentary\, 104’\, Αργεντινή\, Ηνωμένο Βασ
 ίλειο / Argentina\, United Kingdom)\nΠαρουσία της σκηνοθέτριας / Director 
 in attendance\n \n\n\n\n\n\n\n\nΕΙΣΙΤΗΡΙΑ\nΕισιτήρια (ΑΙΘΟΥΣΕΣ): 6€ (γενικ
 ή είσοδος)Πακέτα: 5 προβολές/25€ \, 10 προβολές/35€ Προσφορά: Φοιτητικό - 
 Παιδικό – ΑμεΑ -Ανέργοι - Ατέλειες - Άνω των 65 ετών: 10 προβολές/25€\nΗλε
 κτρονική προπώληση: https://tickets.tainiothiki.gr/\n\n \n http://tainioth
 iki.gr/el/aithouses/programma/event/1644-syllogikos-monologos-collective-m
 onologue-13o-fpka
DTSTART:20241214T180000Z
DTEND:20241214T194400Z
LOCATION:Αίθουσα Α (ΙΕΡΑ ΟΔΟΣ 48\, 104 35\, ΚΕΡΑΜΕΙΚΟΣ\, ΑΘΗΝΑ)
SUMMARY:Συλλογικός μονόλογος / Collective Monologue | 13o ΦΠΚΑ
URL:http://tainiothiki.gr/el/aithouses/programma/event/1644-syllogikos-mono
 logos-collective-monologue-13o-fpka
END:VEVENT
END:VCALENDAR
