BEGIN:VCALENDAR
VERSION:2.0
PRODID:-//http://tainiothiki.gr///NONSGML kigkonsult.se iCalcreator 2.10.15//
METHOD:PUBLISH
BEGIN:VEVENT
UID:20260423T141915EEST-4123wmKnhF@http://tainiothiki.gr/
DTSTAMP:20260423T111915Z
DESCRIPTION:ΑΙΘΟΥΣΑ Α\nΗ πτώση των δικτατοριών και η άνθιση του νέου κινημα
 τογράφου: Ελλάδα – Ισπανία – Πορτογαλία\nΔευτέρα 17 Μαρτίου\n21:00 Οι άγιο
 ι αθώοι (Τα αθώα θύματα) | Los santos inocentes | The Holy Innocents (Mari
 o Camus\, 1984\, Ισπανία / Spain Μυθοπλασία / Fiction\, 107’)\n\n   \n\n\n
 ΕΙΣΙΤΗΡΙΑ\n6 ευρώ (γενική είσοδος)\nΚλείστε ηλεκτρονικά τα εισιτήριά σας σ
 το: https://tickets.tainiothiki.gr/ http://tainiothiki.gr/el/aithouses/pro
 gramma/event/1764-oi-agioi-athooi-the-holy-innocents
DTSTART:20250317T190000Z
DTEND:20250317T205000Z
LOCATION:Αίθουσα Α (ΙΕΡΑ ΟΔΟΣ 48\, 104 35\, ΚΕΡΑΜΕΙΚΟΣ\, ΑΘΗΝΑ)
SUMMARY:Οι άγιοι αθώοι | The Holy Innocents
URL:http://tainiothiki.gr/el/aithouses/programma/event/1764-oi-agioi-athooi
 -the-holy-innocents
END:VEVENT
END:VCALENDAR
