BEGIN:VCALENDAR
VERSION:2.0
PRODID:-//http://tainiothiki.gr///NONSGML kigkonsult.se iCalcreator 2.10.15//
METHOD:PUBLISH
BEGIN:VEVENT
UID:20260425T222811EEST-8042g03f5D@http://tainiothiki.gr/
DTSTAMP:20260425T192811Z
DESCRIPTION:Το 9ο Beyond Borders ταξιδεύει στην Αθήνα! \nΑΙΘΟΥΣΑ Α\nΚΥΡΙΑΚΗ
  30/03 \n19:30 Koka του Aliaksandr Tsymbaliuk (Χρυσό Στεφάνι Μεγίστης)\, 4
 7΄ Ελληνική Πρεμιέρα\n20:25 Sister of Μine του Mariusz Rusinski (Αργυρός Φ
 οίνικας)\, 30'\, Ελληνική Πρεμιέρα\n21:00 My place Ozerna της Karina Bedko
 wska (Αργυρό Στεφάνι Μεγίστης)\, 59'\, Ελληνική\n22:00 Κλείσιμο δράσης\n 
 \nΕίσοδος ελεύθερη\n\n\n\n http://tainiothiki.gr/el/aithouses/programma/ev
 ent/1788-to-9o-beyond-borders-taksideyei-stin-athina-imera-3
DTSTART:20250330T163000Z
DTEND:20250330T200000Z
LOCATION:Αίθουσα Α (ΙΕΡΑ ΟΔΟΣ 48\, 104 35\, ΚΕΡΑΜΕΙΚΟΣ\, ΑΘΗΝΑ)
SUMMARY:Το 9ο Beyond Borders ταξιδεύει στην Αθήνα - Ημέρα 3
URL:http://tainiothiki.gr/el/aithouses/programma/event/1788-to-9o-beyond-bo
 rders-taksideyei-stin-athina-imera-3
END:VEVENT
END:VCALENDAR
