BEGIN:VCALENDAR
VERSION:2.0
PRODID:-//http://tainiothiki.gr///NONSGML kigkonsult.se iCalcreator 2.10.15//
METHOD:PUBLISH
BEGIN:VEVENT
UID:20260425T222918EEST-3328W4d2N2@http://tainiothiki.gr/
DTSTAMP:20260425T192918Z
DESCRIPTION:25ο ΦΕΣΤΙΒΑΛ ΓΑΛΛΟΦΩΝΟΥ ΚΙΝΗΜΑΤΟΓΡΑΦΟΥ\nΑΙΘΟΥΣΑ Α\nΚΥΡΙΑΚΗ 30/0
 3 \n16:00 Jour de fete | Ημέρα γιορτής (Jacques Tati\, 76')\n\n \n\n\n\nΣΥ
 ΝΟΨΗ\nΚάποιοι θεατρίνοι εγκαθίστανται σε ένα ήσυχο χωριό. Ανάμεσα στις ατρ
 αξιόν\, υπάρχει ένα κινητό σινεμά\, όπου ο ταχυδρόμος ανακαλύπτει ένα ντοκ
 ιμαντέρ με θέμα τους Αμερικανούς συναδέλφους του. Αποφασίζει τότε να ξεκιν
 ήσει μια περιοδεία 'Αμερικάνικου' τύπου.\n http://tainiothiki.gr/el/aithou
 ses/programma/event/1790-25o-festival-gallofonou-kinimatografou-imera-gior
 tis
DTSTART:20250330T130000Z
DTEND:20250330T141500Z
LOCATION:Αίθουσα Α (ΙΕΡΑ ΟΔΟΣ 48\, 104 35\, ΚΕΡΑΜΕΙΚΟΣ\, ΑΘΗΝΑ)
SUMMARY:25ο Φεστιβάλ Γαλλόφωνου Κινηματογράφου | Ημέρα γιορτής
URL:http://tainiothiki.gr/el/aithouses/programma/event/1790-25o-festival-ga
 llofonou-kinimatografou-imera-giortis
END:VEVENT
END:VCALENDAR
