BEGIN:VCALENDAR
VERSION:2.0
PRODID:-//http://tainiothiki.gr///NONSGML kigkonsult.se iCalcreator 2.10.15//
METHOD:PUBLISH
BEGIN:VEVENT
UID:20260423T234548EEST-6524rGdr7s@http://tainiothiki.gr/
DTSTAMP:20260423T204548Z
DESCRIPTION:ΑΙΘΟΥΣΑ Α\nΗ Ειρήνη Παπά στη μεγάλη οθόνη\nΣάββατο 18 Οκτωβρίου
 \n21:30 Ο Χριστός σταμάτησε στο Έμπολι | Cristo si e fermato a Eboli (Fran
 cesco Rosi\, 150')\n\n \n\nΕΙΣΙΤΗΡΙΑ\n7 ευρώ (γενική είσοδος)Ηλεκτρονική π
 ροπώληση εδώ\n http://tainiothiki.gr/el/aithouses/programma/event/1985-o-x
 ristos-stamatise-sto-empoli-cristo-si-e-fermato-a-eboli
DTSTART:20251018T183000Z
DTEND:20251018T205900Z
LOCATION:Αίθουσα Α (ΙΕΡΑ ΟΔΟΣ 48\, 104 35\, ΚΕΡΑΜΕΙΚΟΣ\, ΑΘΗΝΑ)
SUMMARY:Ο Χριστός σταμάτησε στο Έμπολι | Cristo si e fermato a Eboli
URL:http://tainiothiki.gr/el/aithouses/programma/event/1985-o-xristos-stama
 tise-sto-empoli-cristo-si-e-fermato-a-eboli
END:VEVENT
END:VCALENDAR
