BEGIN:VCALENDAR
VERSION:2.0
PRODID:-//http://tainiothiki.gr///NONSGML kigkonsult.se iCalcreator 2.10.15//
METHOD:PUBLISH
BEGIN:VEVENT
UID:20260424T025837EEST-8447ku6RX1@http://tainiothiki.gr/
DTSTAMP:20260423T235837Z
DESCRIPTION:ΑΙΘΟΥΣΑ Α\nΗ Ειρήνη Παπά στη μεγάλη οθόνη\nΔευτέρα 20 Οκτωβρίου
 \n21:30 Αλέξης Ζορμπάς | Zorba the Greek (Μιχάλης Κακογιάννης\, 142')\n\n 
 \n\nΕΙΣΙΤΗΡΙΑ\n7 ευρώ (γενική είσοδος)Ηλεκτρονική προπώληση εδώ\n http://t
 ainiothiki.gr/el/aithouses/programma/event/1989-aleksis-zormpas-zorba-the-
 greek
DTSTART:20251020T183000Z
DTEND:20251020T205500Z
LOCATION:Αίθουσα Α (ΙΕΡΑ ΟΔΟΣ 48\, 104 35\, ΚΕΡΑΜΕΙΚΟΣ\, ΑΘΗΝΑ)
SUMMARY:Αλέξης Ζορμπάς | Zorba the Greek
URL:http://tainiothiki.gr/el/aithouses/programma/event/1989-aleksis-zormpas
 -zorba-the-greek
END:VEVENT
END:VCALENDAR
