BEGIN:VCALENDAR
VERSION:2.0
PRODID:-//http://tainiothiki.gr///NONSGML kigkonsult.se iCalcreator 2.10.15//
METHOD:PUBLISH
BEGIN:VEVENT
UID:20260425T055225EEST-1048Jm7elK@http://tainiothiki.gr/
DTSTAMP:20260425T025225Z
DESCRIPTION:ΕΛΛΑΔΑ ΓΑΛΛΙΑ: ΚΙΝΗΜΑΤΟΓΡΑΦΙΚΕΣ ΣΥΝΑΝΤΗΣΕΙΣ\nΘΕΡΙΝΟΣ ΚΙΝΗΜΑΤΟΓΡ
 ΑΦΟΣ ΛΑΪΣ \nΠΕΜΠΤΗ 10/06\n21.15 Η Περιφρόνηση | Le Merpis ( 102’ \, Ζαν-Λυ
 κ Γκοντάρ)\nΠρολογίζει η Στέλλα Θεοδωράκη\nΟ ταπεινός θεατρικός συγγραφέας
  Paul Javal εξελίσσεται σε πετυχημένο σεναριογράφο που ζει ευτυχισμένα μαζ
 ί με τη σύζυγό του Camille. Γράφει ένα σενάριο με θέμα την Οδύσσεια\, που 
 θα σκηνοθετήσει ο Fritz Lang\, σε παραγωγή του Αμερικανού Jeremy Prokosh. 
 Ενώ ο πρώτος θέλει να γυρίσει μια ταινία ψυχολογικού χαρακτήρα\, ο δεύτερο
 ς θέλει μια επική ταινία. Όσο για τον Paul\, που νοιάζεται πάνω απ' όλα γι
 α τα οικονομικά του προβλήματα\, κολακεύει και τους δύο\, ενθαρρύνοντας μέ
 χρι και το φλερτ που ξεκινά ο Jeremy με την Camille.\nΠερισσότερα: https:/
 /festivalfilmfrancophone.gr http://tainiothiki.gr/el/aithouses/programma/e
 vent/201-i-perifronisi-le-merpis
DTSTART:20210610T181500Z
DTEND:20210610T201500Z
LOCATION:Θερινό Λαΐς (ΙΕΡΑ ΟΔΟΣ 48\, 104 35\, ΚΕΡΑΜΕΙΚΟΣ\, ΑΘΗΝΑ	)
SUMMARY:Η Περιφρόνηση | Le Merpis 
URL:http://tainiothiki.gr/el/aithouses/programma/event/201-i-perifronisi-le
 -merpis
END:VEVENT
END:VCALENDAR
