BEGIN:VCALENDAR
VERSION:2.0
PRODID:-//http://tainiothiki.gr///NONSGML kigkonsult.se iCalcreator 2.10.15//
METHOD:PUBLISH
BEGIN:VEVENT
UID:20260425T042630EEST-7730xVxvF9@http://tainiothiki.gr/
DTSTAMP:20260425T012630Z
DESCRIPTION:ΕΛΛΑΔΑ ΓΑΛΛΙΑ: ΚΙΝΗΜΑΤΟΓΡΑΦΙΚΕΣ ΣΥΝΑΝΤΗΣΕΙΣ\nΘΕΡΙΝΟΣ ΚΙΝΗΜΑΤΟΓΡ
 ΑΦΟΣ ΛΑΪΣ \nΠΑΡΑΣΚΕΥΗ 11/06\n21.15 Στους Έρωτες Μας | To Our Loves (95’\, 
 Μορίς Πιαλά) \nΗ Suzanne είναι δεκαπέντε χρονών και ζει τη ζωή ενός κοριτσ
 ιού της ηλικίας της. Έχει ένα κύκλο φιλενάδων\, κορίτσια λυκείου σαν κι αυ
 τή\, με γονείς του ιδίου οικογενειακού υπόβαθρου -τεχνίτες και έμποροι που
  εργάζονται σκληρά και δεν έχουν το χρόνο να αφοσιωθούν στα παιδιά τους. Τ
 α κορίτσια δεν μοιράζονται απλά τα φλερτ και τις ιστορίες τους\, αλλά αναδ
 ημιουργούν αυτό που δεν έχουν: μια στοργική οικογένεια. H ηρωίδα επιδίδετα
 ι σε μια σειρά από εφήμερους έρωτες\, αλλά τελικά\, επιζητώντας την αγάπη 
 και την αποδοχή του πατέρα της\, βρίσκει την ισορροπία στη ζωή της.\nΠερισ
 σότερα: https://festivalfilmfrancophone.gr http://tainiothiki.gr/el/aithou
 ses/programma/event/202-stous-erotes-mas-to-our-loves
DTSTART:20210611T181500Z
DTEND:20210611T201500Z
LOCATION:Θερινό Λαΐς (ΙΕΡΑ ΟΔΟΣ 48\, 104 35\, ΚΕΡΑΜΕΙΚΟΣ\, ΑΘΗΝΑ	)
SUMMARY:Στους Έρωτες Μας | To Our Loves 
URL:http://tainiothiki.gr/el/aithouses/programma/event/202-stous-erotes-mas
 -to-our-loves
END:VEVENT
END:VCALENDAR
