BEGIN:VCALENDAR
VERSION:2.0
PRODID:-//http://tainiothiki.gr///NONSGML kigkonsult.se iCalcreator 2.10.15//
METHOD:PUBLISH
BEGIN:VEVENT
UID:20260425T025535EEST-2446vRUVUM@http://tainiothiki.gr/
DTSTAMP:20260424T235535Z
DESCRIPTION:ΕΛΛΑΔΑ ΓΑΛΛΙΑ: ΚΙΝΗΜΑΤΟΓΡΑΦΙΚΕΣ ΣΥΝΑΝΤΗΣΕΙΣ\nΘΕΡΙΝΟΣ ΚΙΝΗΜΑΤΟΓΡ
 ΑΦΟΣ ΛΑΪΣ \nΣΑΒΒΑΤΟ 12/06\n21.15 Ο Άγνωστος της Λίμνης | Stranger by the L
 ake (100’\, Αλέν Γκιροντί ) Προλογίζει ο Σύλλας Τζουμέρκας\nΚαλοκαίρι. Κρυ
 μμένο στις όχθες μιας λίμνης\, ένα μέρος όπου φλερτάρουν άντρες. Ο Franck 
 ερωτεύεται τον Michel\, έναν άντρα όμορφο\, ισχυρό και θανατηφόρα επικίνδυ
 νο. Ο Franck το ξέρει\, αλλά θέλει να ζήσει αυτό το πάθος.\nΠερισσότερα: h
 ttps://festivalfilmfrancophone.gr http://tainiothiki.gr/el/aithouses/progr
 amma/event/203-o-agnostos-tis-limnis-stranger-by-the-lake
DTSTART:20210612T181500Z
DTEND:20210612T201500Z
LOCATION:Θερινό Λαΐς (ΙΕΡΑ ΟΔΟΣ 48\, 104 35\, ΚΕΡΑΜΕΙΚΟΣ\, ΑΘΗΝΑ	)
SUMMARY:Ο Άγνωστος της Λίμνης | Stranger by the Lake 
URL:http://tainiothiki.gr/el/aithouses/programma/event/203-o-agnostos-tis-l
 imnis-stranger-by-the-lake
END:VEVENT
END:VCALENDAR
