BEGIN:VCALENDAR
VERSION:2.0
PRODID:-//http://tainiothiki.gr///NONSGML kigkonsult.se iCalcreator 2.10.15//
METHOD:PUBLISH
BEGIN:VEVENT
UID:20260425T012545EEST-7332DJPidz@http://tainiothiki.gr/
DTSTAMP:20260424T222545Z
DESCRIPTION:ΕΛΛΑΔΑ ΓΑΛΛΙΑ: ΚΙΝΗΜΑΤΟΓΡΑΦΙΚΕΣ ΣΥΝΑΝΤΗΣΕΙΣ\nΘΕΡΙΝΟΣ ΚΙΝΗΜΑΤΟΓΡ
 ΑΦΟΣ ΛΑΪΣ \nΚΥΡΙΑΚΗ 13/06\n21.15 Σταθμός Αποχαιρετισμού |  La Jetee (28’\,
  Κρις Μαρκέρ) και Mouchette (90’\, Ρομπέρ Μπρεσόν )\nΣΤΑΘΜΟΣ ΑΠΟΧΑΙΡΕΤΙΣΜΟ
 Υ (1962\, Κρις Μαρκέρ)Ο Τρίτος Παγκόσμιος Πόλεμος έχει επεκταθεί σε όλη τη
  γη. Η ραδιενέργεια διαχέεται. Μοναδική σωτηρία αποτελεί η φυγή μέσα στο χ
 ρόνο\, είτε στο παρελθόν είτε στο μέλλον. Οι επιστήμονες εργάζονται στα υπ
 όγεια στρατόπεδα συγκέντρωσης.  Κάτω από την τυραννική επιτήρηση  των επισ
 τημόνων\, οι οποίοι τον στέλνουν σε ένα ταξίδι στο χρόνο ώστε να ζητήσει β
 οήθεια από τους ανθρώπους του μέλλοντος\, ο πρωταγωνιστής θα  καταφέρει να
  ζήσει μια ιστορία αγάπης με μια γυναίκα από άλλο χωροχρόνο.\nMOUCHETTE (1
 967\, Ρομπέρ Μπρεσόν)Η Mouchette\, μια λιγομίλητη έφηβη με πατέρα αλκοολικ
 ό και μητέρα βαριά άρρωστη\, ζει μέσα στη μοναξιά. Ένα βράδυ µε καταρρακτώ
 δη βροχή\, χάνεται στο δάσος καθώς επιστρέφει από το σχολείο στο σπίτι. Εκ
 είνο το βράδυ την φιλοξενεί ο Arsène\, ένας λαθροκυνηγός\, ο οποίος την κα
 κοποιεί. Επιστρέφοντας στο σπίτι\, η μητέρα της Mouchette πεθαίνει\, πριν 
 προλάβει η μικρή να της εκμυστηρευτεί αυτό που της συνέβη...\nΠερισσότερα:
  https://festivalfilmfrancophone.gr http://tainiothiki.gr/el/aithouses/pro
 gramma/event/204-stathmos-apoxairetismoy-la-jetee-mouchette
DTSTART:20210613T181500Z
DTEND:20210613T203000Z
LOCATION:Θερινό Λαΐς (ΙΕΡΑ ΟΔΟΣ 48\, 104 35\, ΚΕΡΑΜΕΙΚΟΣ\, ΑΘΗΝΑ	)
SUMMARY:Σταθμός Αποχαιρετισμού |  La Jetee & Mouchette
URL:http://tainiothiki.gr/el/aithouses/programma/event/204-stathmos-apoxair
 etismoy-la-jetee-mouchette
END:VEVENT
END:VCALENDAR
