BEGIN:VCALENDAR
VERSION:2.0
PRODID:-//http://tainiothiki.gr///NONSGML kigkonsult.se iCalcreator 2.10.15//
METHOD:PUBLISH
BEGIN:VEVENT
UID:20260424T235939EEST-2020kbst4w@http://tainiothiki.gr/
DTSTAMP:20260424T205939Z
DESCRIPTION:ΕΛΛΑΔΑ ΓΑΛΛΙΑ: ΚΙΝΗΜΑΤΟΓΡΑΦΙΚΕΣ ΣΥΝΑΝΤΗΣΕΙΣ\nΘΕΡΙΝΟΣ ΚΙΝΗΜΑΤΟΓΡ
 ΑΦΟΣ ΛΑΪΣ \nΔΕΥΤΕΡΑ 14/06\n21.15 Στη Τύχη ο Μπαλταζάρ |Au Hasard Balthazar
  ( 95’\, Ρομπέρ Μπρεσόν) Προλογίζει η Εύα Στεφανή\nΟ Balthazar είναι το 'κ
 λοτσοσκούφι'\, το θύμα. O καθένας από τους αφέντες του ενσαρκώνει ένα ελάτ
 τωμα της ανθρωπότητας και με κάθε έναν από τους αφέντες του\, ο Balthazar 
 θα υποφέρει έναν διαφορετικό πόνο. Αυτό που σκέφτεται\, κανείς δεν το γνωρ
 ίζει. Αλλά έχει το μάτι ενός δικαστή. Η γαλήνια ζωή του αντιβαίνει στη ταρ
 αχώδη ύπαρξη των ανθρώπων. Τελικά πεθαίνει\, επειδή φέρει την αμαρτία τους
 : τον χρυσό που του φόρτωσαν λαθρέμποροι στο δρόμο τους προς τα ισπανικά σ
 ύνορα.\nΠερισσότερα: https://festivalfilmfrancophone.gr http://tainiothiki
 .gr/el/aithouses/programma/event/205-sti-tyxi-o-baltazar-au-hasard-balthaz
 ar
DTSTART:20210614T181500Z
DTEND:20210614T201500Z
LOCATION:Θερινό Λαΐς (ΙΕΡΑ ΟΔΟΣ 48\, 104 35\, ΚΕΡΑΜΕΙΚΟΣ\, ΑΘΗΝΑ	)
SUMMARY:Στη Τύχη ο Μπαλταζάρ |Au Hasard Balthazar
URL:http://tainiothiki.gr/el/aithouses/programma/event/205-sti-tyxi-o-balta
 zar-au-hasard-balthazar
END:VEVENT
END:VCALENDAR
