BEGIN:VCALENDAR
VERSION:2.0
PRODID:-//http://tainiothiki.gr///NONSGML kigkonsult.se iCalcreator 2.10.15//
METHOD:PUBLISH
BEGIN:VEVENT
UID:20260423T190110EEST-3917xnU2lS@http://tainiothiki.gr/
DTSTAMP:20260423T160110Z
DESCRIPTION:ΑΙΘΟΥΣΑ Α\nCINEMA MADE IN ITALY/ ATHENS 2025\nΣάββατο 22 Νοεμβρ
 ίου\n19:00 Ρώμη\, ώρα 11 | Roma ore 11 | Rome 11:00 (Giuseppe De Santis\, 
 105')\n\n \n\nΕΙΣΙΤΗΡΙΑ\n6 ευρώ (γενική είσοδος) / Tρεις προβολές: 10 ευρώ
 Ηλεκτρονική προπώληση εδώ\n http://tainiothiki.gr/el/aithouses/programma/e
 vent/2051-romi-ora-11-rome-11-00
DTSTART:20251122T170000Z
DTEND:20251122T184500Z
LOCATION:Αίθουσα Α (ΙΕΡΑ ΟΔΟΣ 48\, 104 35\, ΚΕΡΑΜΕΙΚΟΣ\, ΑΘΗΝΑ)
SUMMARY:Ρώμη\, ώρα 11 | Rome 11:00
URL:http://tainiothiki.gr/el/aithouses/programma/event/2051-romi-ora-11-rom
 e-11-00
END:VEVENT
END:VCALENDAR
