BEGIN:VCALENDAR
VERSION:2.0
PRODID:-//http://tainiothiki.gr///NONSGML kigkonsult.se iCalcreator 2.10.15//
METHOD:PUBLISH
BEGIN:VEVENT
UID:20260423T185914EEST-92242fuhDG@http://tainiothiki.gr/
DTSTAMP:20260423T155914Z
DESCRIPTION:ΑΙΘΟΥΣΑ Α\nΝίκος Καβουκίδης: Μια ζωή μαρτυρίες\nΤρίτη 25 Νοεμβρ
 ίου\n21:30 Η κάθοδος των εννέα (122’)\n\n \n\nΕΙΣΙΤΗΡΙΑ\n7 ευρώ (γενική εί
 σοδος) Ηλεκτρονική προπώληση εδώ\n http://tainiothiki.gr/el/aithouses/prog
 ramma/event/2057-i-kathodos-ton-ennea
DTSTART:20251125T193000Z
DTEND:20251125T213000Z
LOCATION:Αίθουσα Α (ΙΕΡΑ ΟΔΟΣ 48\, 104 35\, ΚΕΡΑΜΕΙΚΟΣ\, ΑΘΗΝΑ)
SUMMARY:Η κάθοδος των εννέα 
URL:http://tainiothiki.gr/el/aithouses/programma/event/2057-i-kathodos-ton-
 ennea
END:VEVENT
END:VCALENDAR
