BEGIN:VCALENDAR
VERSION:2.0
PRODID:-//http://tainiothiki.gr///NONSGML kigkonsult.se iCalcreator 2.10.15//
METHOD:PUBLISH
BEGIN:VEVENT
UID:20260423T202752EEST-241505nOvr@http://tainiothiki.gr/
DTSTAMP:20260423T172752Z
DESCRIPTION:ΑΙΘΟΥΣΑ Α\nΝίκος Καβουκίδης: Μια ζωή μαρτυρίες\nΤετάρτη 26 Νοεμ
 βρίου\n20:30 Το προξενιό της Άννας (82’)\n\n \n\nΕΙΣΙΤΗΡΙΑ\n7 ευρώ (γενική
  είσοδος) Ηλεκτρονική προπώληση εδώ\n http://tainiothiki.gr/el/aithouses/p
 rogramma/event/2059-to-proksenio-tis-annas
DTSTART:20251126T183000Z
DTEND:20251126T195000Z
LOCATION:Αίθουσα Α (ΙΕΡΑ ΟΔΟΣ 48\, 104 35\, ΚΕΡΑΜΕΙΚΟΣ\, ΑΘΗΝΑ)
SUMMARY:Το προξενιό της Άννας 
URL:http://tainiothiki.gr/el/aithouses/programma/event/2059-to-proksenio-ti
 s-annas
END:VEVENT
END:VCALENDAR
