BEGIN:VCALENDAR
VERSION:2.0
PRODID:-//http://tainiothiki.gr///NONSGML kigkonsult.se iCalcreator 2.10.15//
METHOD:PUBLISH
BEGIN:VEVENT
UID:20260423T190233EEST-1101peTNwt@http://tainiothiki.gr/
DTSTAMP:20260423T160233Z
DESCRIPTION:ΑΙΘΟΥΣΑ Β\nΠΕΜΠΤΗ 27/11 \n9ο Φεστιβάλ WIFT GR\n21.00 Αρκουδότρυ
 πα – Q&amp\;A παρουσία συντελεστώνΜυθοπλασία\,  Ελλάδα\, Ηνωμένο Βασίλειο\
 , 2025\, 127’ | Σκηνοθεσία: Χρυσιάννα Παπαδάκη\, Στέργιος Ντινόπουλος\nΕίσ
 οδος με προσκλήσεις\n \n\n\n- Είσοδος στην εκδήλωση 8ο ΦΕΣΤΙΒΑΛ WIFT GR:  
 \nΗ είσοδος στις προβολές και τις εκδηλώσεις του Φεστιβάλ θα είναι ελεύθερ
 η.\n  http://tainiothiki.gr/el/aithouses/programma/event/2070-9o-festival-
 wift-gr
DTSTART:20251127T190000Z
DTEND:20251127T211000Z
LOCATION:Αίθουσα Β (ΙΕΡΑ ΟΔΟΣ 48\, 104 35\, ΚΕΡΑΜΕΙΚΟΣ\, ΑΘΗΝΑ)
SUMMARY:9ο Φεστιβάλ WIFT GR
URL:http://tainiothiki.gr/el/aithouses/programma/event/2070-9o-festival-wif
 t-gr
END:VEVENT
END:VCALENDAR
