BEGIN:VCALENDAR
VERSION:2.0
PRODID:-//http://tainiothiki.gr///NONSGML kigkonsult.se iCalcreator 2.10.15//
METHOD:PUBLISH
BEGIN:VEVENT
UID:20260422T011418EEST-1832fUvO9B@http://tainiothiki.gr/
DTSTAMP:20260421T221418Z
DESCRIPTION:ΘΕΡΙΝΟΣ ΚΙΝΗΜΑΤΟΓΡΑΦΟΣ ΛΑΪΣ\nΠΕΜΠΤΗ 24/06 - ΤΕΤΑΡΤΗ 30/06\n22:4
 5 DiggerΣκηνοθεσία:Τζώρτζης ΓρηγοράκηςΔιάρκεια:111’Χώρα: Ελλάδα\n\nDIGGER 
 (2020) - Official Trailer from HAOS Film on Vimeo.\n«Μια σφοδρή σύγκρουση 
 πατέρα-γιού\, σε ένα σύγχρονο ελληνικό γουέστερν στην άγρια φύση» \n\n\nΟ 
  Νικήτας\, ζει αποτραβηγμένος στο κτήμα του\, στην καρδιά ενός πανέμορφου 
 δάσους στη Βόρεια Ελλάδα.  Εδώ και καιρό παλεύει με ένα εχθρό\, το βιομηχα
 νικό τέρας που σκάβει επιθετικά το βουνό και διαταράσσει την παρθένα φύση.
  Απειλεί τον ίδιο και την γη του\, καθώς και όσους αντιστέκονται. Η μεγαλύ
 τερη όμως απειλή για τον Νικήτα έρχεται από το πουθενά\, με την ξαφνική άφ
 ιξη του γιού του μετά από 20 χρόνια απουσίας. Πατέρας και γιος γίνονται εχ
 θροί κάτω από την ίδια στέγη καισυγκρούονται μετωπικά. Με φόντο ένα τραυμα
 τισμένο τοπίο και μια κοινωνία σε ατμόσφαιρα εμφυλίου\, η ισορροπία μεταξύ
  ανθρώπων\, φύσης και μηχανών αλλάζει δυναμικά καθώς εναλλάσσονται τους ρό
 λους του εχθρού και του λυτρωτή. Το έδαφος γίνεται όλο και πιο ασταθές. Γι
 α να γίνει και πάλι σταθερό\, οι ήρωες πρέπει  να σκάψουν βαθιά μέσα στη λ
 άσπη.  \n\n\n\nΣκηνοθεσία : Τζώρτζης Γρηγοράκης\nΣενάριο  : Μαρία Βόττη\, 
 Βαγγέλης Μουρίκης\nΦωτογραφία : Γιώργος Καρβέλας \nΜοντάζ : Θοδωρής Αρμάος
 \nΜουσική : Μιχάλης Μοσχούτης\nΗθοποιοί : Βαγγέλης Μουρίκης\n             
    Αργύρης Πανταζάρας\n                Σοφία Κόκκαλη\n                Τεό 
 Αλεξάντερ\n                 Μιχάλης Ιατρόπουλος\n                 Βασίλης 
 Μπισμπίκης\n                 Παύλος Ιορδανόπουλος\n                 Αντώνη
 ς Τσιοτσιόπουλος\n                 Μαριάνθη Παντελοπούλου\n               
  Στέφανος Κουτσαρδάκης\n                Θύτης.\n \n\n\nΠερισσότερα:  \nhtt
 p://www.georgisgrigorakis.com/project/digger/\nhttps://www.facebook.com/Di
 ggerfilm\nhttps://www.instagram.com/digger_themovie/\n\n\n-Είσοδος για όλε
 ς τις αίθουσες: 7€\, 5€* (μειωμένο)\nΚάθε Πέμπτη ισχύει προσφορά εισόδου γ
 ια 2 άτομα με ένα εισιτήριο στα 7€\n \n*Το μειωμένο εισιτήριο αφορά στις π
 αρακάτω κατηγορίες:\nμαθητές\, φοιτητές\, άτομα άνω των 65 ετών\, άνεργοι\
 , άνθρωποι με αναπηρία – ΑμεΑ (ισχύει και για έναν/μία συνοδό)\, δάσκαλοι-
 καθηγητές\, ατέλειες.\n \nΠρονόμια μελών σε ΜΜΕ\n-Αθηνόραμα Club (Αθηνόραμ
 α): Από Δευτέρα έως και Πέμπτη\, ειδική τιμή € 5 http://tainiothiki.gr/el/
 aithouses/programma/event/211-digger
DTSTART:20210624T194500Z
DTEND:20210630T194500Z
LOCATION:Θερινό Λαΐς (ΙΕΡΑ ΟΔΟΣ 48\, 104 35\, ΚΕΡΑΜΕΙΚΟΣ\, ΑΘΗΝΑ	)
SUMMARY:Digger
URL:http://tainiothiki.gr/el/aithouses/programma/event/211-digger
END:VEVENT
END:VCALENDAR
