BEGIN:VCALENDAR
VERSION:2.0
PRODID:-//http://tainiothiki.gr///NONSGML kigkonsult.se iCalcreator 2.10.15//
METHOD:PUBLISH
BEGIN:VEVENT
UID:20260421T233527EEST-0001NNgVTO@http://tainiothiki.gr/
DTSTAMP:20260421T203526Z
DESCRIPTION:ΑΙΘΟΥΣΑ Α\nΣΑΒΒΑΤΟ 20 ΔΕΚΕΜΒΡΙΟΥ\nFILM FACTORY 2025\n13:00 Κλέλ
 ια Ρένεση (Βραβείο Ίρις Β’ Γυναικείου Ρόλου / Υπάρχω)\, Μαρία Κοντοδήμα (Β
 ραβείο Ίρις Ενδυματολογίας / Υπάρχω)\n15:00 Δάφνη Χαιρετάκη (Βραβείο Ίρις 
 Μικρού Μήκους Ντοκιμαντέρ / Αυτό που ζητάμε από ένα άγαλμα είναι να μην κι
 νείται)\, Ταξιάρχης Δεληγιάννης\, Βασίλης Τσιουβάρας (Βραβείο Ίρις  Μικρού
  Μήκους Animation / Ανοιχτά Φτερά)\, Μένη Τσιλιανίδου (Βραβείο Ίρις Μικρού
  Μήκους Σπουδαστικής Ταινίας / Απαρατάτεμε)\n17:15 Ελίνα Ψύκου (Βραβείο Ίρ
 ις Ντοκιμαντέρ / Αδέσποτα Κορμιά)\nΕίσοδος ελεύθερη\n\n\n  http://tainioth
 iki.gr/el/aithouses/programma/event/2148-film-factory-2025
DTSTART:20251220T110000Z
DTEND:20251220T163000Z
LOCATION:Αίθουσα Α (ΙΕΡΑ ΟΔΟΣ 48\, 104 35\, ΚΕΡΑΜΕΙΚΟΣ\, ΑΘΗΝΑ)
SUMMARY:FILM FACTORY 2025
URL:http://tainiothiki.gr/el/aithouses/programma/event/2148-film-factory-20
 25
END:VEVENT
END:VCALENDAR
