BEGIN:VCALENDAR
VERSION:2.0
PRODID:-//http://tainiothiki.gr///NONSGML kigkonsult.se iCalcreator 2.10.15//
METHOD:PUBLISH
BEGIN:VEVENT
UID:20260422T011756EEST-2013dH9vaA@http://tainiothiki.gr/
DTSTAMP:20260421T221756Z
DESCRIPTION:ΑΙΘΟΥΣΑ Α\nΚΥΡΙΑΚΗ 21 ΔΕΚΕΜΒΡΙΟΥ\nFILM FACTORY 2025\n14:00 Γιάν
 νης Βεσλεμές (Βραβείο Ίρις Πρωτότυπης Μουσικής / Αγαπούσε τα λουλούδια περ
 ισσότερο)\, Χρήστος Καραμάνης (Βραβείο Φωτογραφίας / Αγαπούσε τα λουλούδια
  περισσότερο)\n16:00 Αντιγόνη Ρώτα\, Μαρία Δρανδάκη\, Στέλιος Κοτιώνης (Βρ
 αβείο Ίρις Μεγάλου Μήκους Ταινίας Μυθοπλασίας / Αρκάντια)\n18:00 Γιώργος Ζ
 ώης (Βραβεία Ίρις Σκηνοθεσίας &amp\; Σεναρίου / Αρκάντια)\nΕίσοδος ελεύθερ
 η\n\n\n  http://tainiothiki.gr/el/aithouses/programma/event/2149-film-fact
 ory-2025
DTSTART:20251221T120000Z
DTEND:20251221T170000Z
LOCATION:Αίθουσα Α (ΙΕΡΑ ΟΔΟΣ 48\, 104 35\, ΚΕΡΑΜΕΙΚΟΣ\, ΑΘΗΝΑ)
SUMMARY:FILM FACTORY 2025
URL:http://tainiothiki.gr/el/aithouses/programma/event/2149-film-factory-20
 25
END:VEVENT
END:VCALENDAR
