BEGIN:VCALENDAR
VERSION:2.0
PRODID:-//http://tainiothiki.gr///NONSGML kigkonsult.se iCalcreator 2.10.15//
METHOD:PUBLISH
BEGIN:VEVENT
UID:20260422T015029EEST-4874TJjXuc@http://tainiothiki.gr/
DTSTAMP:20260421T225029Z
DESCRIPTION:ΘΕΡΙΝΟΣ ΚΙΝΗΜΑΤΟΓΡΑΦΟΣ ΛΑΪΣ\nΣΑΒΒΑΤΟ 26/06\n20:30 Instituting O
 therwise (Συζήτηση και προβολή ταινίας) \nΣυζήτηση\nΣυμμετέχουν: Gigi Argy
 ropoulou\, Filipa César\, Bernd Scherer\, Adania Shibli\, Savvy Contempora
 ry (Sagal Farah\, Kelly Krugman\, Lynhan Balatbat-Helbock)\nΠροβολή\nScola
  Di Tarafe (Filipa César\, Sónia Vaz Borges\, Guinea Bissau 2020\, 30’) (σ
 την κρεολική με αγγλικούς υπότιτλους)\nΜε εισαγωγή του Jonas Tinius\nΣτο π
 λαίσιο της αθηναϊκής έκδοσης του New Alphabet School του Haus der Kulturen
  der Welt (HKW) στο Βερολίνο που συνεπιμελούνται το ΟΧΤΩ και το Goethe Ins
 titutAthen.\nΕίσοδος ελεύθερη με δελτία εισόδου\nΜάθετε περισσότερα εδώ. h
 ttp://tainiothiki.gr/el/aithouses/programma/event/215-instituting-otherwis
 e-syzitisi-kai-provoli-tainias
DTSTART:20210626T173000Z
DTEND:20210626T193000Z
LOCATION:Θερινό Λαΐς (ΙΕΡΑ ΟΔΟΣ 48\, 104 35\, ΚΕΡΑΜΕΙΚΟΣ\, ΑΘΗΝΑ	)
SUMMARY:Instituting Otherwise (Συζήτηση και προβολή ταινίας)
URL:http://tainiothiki.gr/el/aithouses/programma/event/215-instituting-othe
 rwise-syzitisi-kai-provoli-tainias
END:VEVENT
END:VCALENDAR
