BEGIN:VCALENDAR
VERSION:2.0
PRODID:-//http://tainiothiki.gr///NONSGML kigkonsult.se iCalcreator 2.10.15//
METHOD:PUBLISH
BEGIN:VEVENT
UID:20260421T204731EEST-23180gnm9T@http://tainiothiki.gr/
DTSTAMP:20260421T174731Z
DESCRIPTION:ΑΙΘΟΥΣΑ Α\nΔΕΥΤΕΡΑ 26/01 - ΤΕΤΑΡΤΗ 28/01 \n19:00 Marty Supreme 
 (Josh Safdie\, 149') Spentzos Films\n\n\nΈνας νεαρός άνδρας με ένα όνειρο 
 που κανείς δεν σέβεται\, θα κάνει τα πάντα\, προκειμένου να κυνηγήσει το μ
 εγαλείο.\n\nΣΥΝΟΨΗ\nΝέα Υόρκη\, 1952. Ο Marty Mauser\, ένας 23χρονο πωλητή
 ς παπουτσιών στο Lower East Side\, έχει μια φιλοδοξία που κανείς δεν παίρν
 ει στα σοβαρά: να γίνει ο μεγαλύτερος παίκτης πινγκ πονγκ στον κόσμο. Σε μ
 ια μεταπολεμική Αμερική\, ο Marty μετατρέπει το παιχνίδι σε σωσίβιο διαφυγ
 ής — από τη φτώχεια\, την οικογενειακή ασφυξία και τους άγραφους ταξικούς 
 κανόνες. Με αστείρευτη ενέργεια\, θράσος και εμμονή\, ξεκινά ένα ταξίδι πο
 υ τον οδηγεί από τις υπόγειες αίθουσες της Νέας Υόρκης σε όλο τον κόσμο\, 
 και σίγουρα πολύ μακρύτερα από τα όρια που του είχαν τεθεί.\n \n\nΕΙΣΙΤΗΡΙ
 Α\n-Είσοδος για όλες τις αίθουσες: 7€\, 5€* (μειωμένο)\nΚάθε Δευτέρα ισχύε
 ι προσφορά εισόδου για 2 άτομα με ένα εισιτήριο στα 7€ από το ταμείο\n*Το 
 μειωμένο εισιτήριο αφορά στις παρακάτω κατηγορίες:μαθητές\, φοιτητές\, άτο
 μα άνω των 65 ετών\, άνεργοι\, άνθρωποι με αναπηρία – ΑμεΑ (ισχύει και για
  έναν/μία συνοδό)\, δάσκαλοι-καθηγητές\, ατέλειες.\nΠρονόμια μελών σε ΜΜΕ
 \n-Αθηνόραμα Club (Αθηνόραμα): Από Δευτέρα έως και Πέμπτη\, ειδική τιμή € 
 5\nΚλείστε ηλεκτρονικά τα εισιτήριά σας στο: https://tickets.tainiothiki.g
 r/Σημειώνεται πως οι δικαιούχοι μειωμένου εισιτηρίου\, θα πρέπει να προμηθ
 ευτούν τα εισιτήριά τους από το ταμείο της Ταινιοθήκης. \n  http://tainiot
 hiki.gr/el/aithouses/programma/event/2190-marty-supreme
DTSTART:20260126T170000Z
DTEND:20260128T193000Z
LOCATION:Αίθουσα Α (ΙΕΡΑ ΟΔΟΣ 48\, 104 35\, ΚΕΡΑΜΕΙΚΟΣ\, ΑΘΗΝΑ)
SUMMARY:Marty Supreme 
URL:http://tainiothiki.gr/el/aithouses/programma/event/2190-marty-supreme
END:VEVENT
END:VCALENDAR
