BEGIN:VCALENDAR
VERSION:2.0
PRODID:-//http://tainiothiki.gr///NONSGML kigkonsult.se iCalcreator 2.10.15//
METHOD:PUBLISH
BEGIN:VEVENT
UID:20260421T202627EEST-8473tIj03x@http://tainiothiki.gr/
DTSTAMP:20260421T172627Z
DESCRIPTION:ΑΙΘΟΥΣΑ Β\nΣΑΒΒΑΤΟ 21/02 στις 17:00Ακολουθεί συζήτηση με τον σκ
 ηνοθέτη\nΚΥΡΙΑΚΗ 22/02 στις 19:00Ακολουθεί συζήτηση με την Ντενίς Νικολάκο
 υ\, συνθετική ψυχοθεραπεύτρια &amp\; επικεφαλής του προγράμματος Cinemathe
 rapy by ΕΚΚΟΜΕΔ\nΚραυγές (Πέτρος Σεβαστίκογλου\, 87') \n\n\nΈνα τολμηρό πε
 ίραμα που υποστηρίζεται από στιβαρές ερμηνείες (Αλεξάνδρα Καζάζου\, Χάρη Φ
 ραγκούλη\, Αγλαΐα Παππά\, Μαργαρίτα Αλεξιάδη και Μαρία Αρζόγλου)\, εξαιρετ
 ική φωτογραφία και δημιουργικές μουσικές συνθέσεις!\n\nΣΥΝΟΨΗ\nΤρεις γυναί
 κες διαφορετικών ηλικιών ζουν εγκλωβισμένες σε μια καθημερινότητα που τις 
 καταπιέζει. Ανάμεσα στη ρουτίνα\, τις κοινωνικές προσδοκίες και τους προσω
 πικούς τους φόβους\, αισθάνονται ότι έχουν χάσει τη σύνδεση με τον εαυτό κ
 αι τις επιθυμίες τους.\nΗ απόδρασή τους στην άγρια φύση γίνεται μια απρόσμ
 ενη διαδρομή ελευθερίας και αφύπνισης. Εκεί\, μακριά από κανόνες και ρόλου
 ς\, ανακαλύπτουν μια άλλη εκδοχή του εαυτού τους.\nΌταν ένας επικείμενος γ
 άμος τις φέρνει αντιμέτωπες με όσα θεωρούνται «φυσιολογικά» και «αποδεκτά»
 \, οι τρεις γυναίκες αμφισβητούν τα όρια της αγάπης και της σχέσης\, όπως 
 τα θέτει η κοινωνία\, και αναζητούν έναν νέο τρόπο ύπαρξης - με τίμημα τη 
 σύγκρουση με τον κόσμο γύρω τους και με τον ίδιο τους τον εαυτό.\n\nΛΙΓΑ Λ
 ΟΓΙΑ ΓΙΑ ΤΗΝ ΤΑΙΝΙΑ\nΗ έκτη ταινία του Πέτρου Σεβαστίκογλου\, αποτελεί μια
  ποιητική εξερεύνηση της αγάπης\, της ελευθερίας και της γυναικείας φύσης\
 , συνδυάζοντας πειραματική οπτική γλώσσα με έντονη συναισθηματική δύναμη. 
 Με σαφή επιρροή από τον λυρικό\, σωματικό κινηματογράφο και με ιδιαίτερη χ
 ρήση της Φύσης ως ψυχικού τοπίου\, οι «Κραυγές» συνθέτουν μια άγρια και τα
 υτόχρονα ρομαντική ωδή στον έρωτα μέσα από τον δαιδαλώδη και ατίθασο ψυχισ
 μό της γυναίκας.  \nΟ σκηνοθέτης ακολουθεί και πάλι τον πρωτοποριακό κινημ
 ατογραφικό δρόμο που χάραξε στις προηγούμενες ταινίες του\, δίνει πρωταγων
 ιστικό ρόλο στους ήχους και τη μουσική\, και αφήνει το συναίσθημα να κατακ
 λύσει την ιστορία που ξεχύνεται μέσα από βαθιά γοητευτικές εικόνες. Ο ίδιο
 ς άλλωστε έχει αναλάβει και τη φωτογραφία και μέρος της κάμερας\, όπως και
  στις προηγούμενες δημιουργίες του. \n\nΣΗΜΕΙΩΜΑ ΤΟΥ ΣΚΗΝΟΘΕΤΗ\nΔεν αντέχο
 υμε πια να καούμε από πάθος\, λέξεις\, ιδέες και ειλικρινή πόθο για ό\,τι 
 πραγματικά μας συγκλονίζει. Ζώντας σε έναν κόσμο που διαρκώς φοβόμαστε μήπ
 ως κάτι «χάσουμε»\, υψώνουμε προστατευτικούς τοίχους για να μην διαλυθούμε
  μέσα σε μια άλλη ανθρώπινη ψυχή. Λες κι ένα δεύτερο δέρμα βάζει το δράμα 
 που διαδραματίζεται μπροστά στα μάτια μας σε απόσταση\, για να το επαναφέρ
 ει σε αποδεκτές αναλογίες\, δηλαδή αναλογίες που δεν κλονίζουν τις συνήθει
 ές μας ούτε τις πεποιθήσεις μας. Έχουμε χάσει την αίσθηση της τραγωδίας. Ξ
 εχνώντας τον σκοπό της ζωής\, μένουμε λογικοί\, ενώ μέσα μας φλεγόμαστε. Η
  νοσταλγία για την άγρια\, αδάμαστη φύση μας\, όμως\, μας ακολουθεί και το
  σώμα κατανοεί μέσω των αισθήσεων τι είναι τι. Κινείται σε επίπεδα που η λ
 ογική δεν θα μπορούσε ποτέ να συλλάβει.  \nΜία ιστορία που υιοθετεί μια λυ
 ρική και όχι ορθολογική σύνθεση\, καθοδηγούμενη από τα συναισθήματα.\n   
 \n\nΕΙΣΙΤΗΡΙΑ\n-Είσοδος για όλες τις αίθουσες: 7€\, 5€* (μειωμένο)\nΚάθε Δ
 ευτέρα ισχύει προσφορά εισόδου για 2 άτομα με ένα εισιτήριο στα 7€ από το 
 ταμείο\n*Το μειωμένο εισιτήριο αφορά στις παρακάτω κατηγορίες:μαθητές\, φο
 ιτητές\, άτομα άνω των 65 ετών\, άνεργοι\, άνθρωποι με αναπηρία – ΑμεΑ (ισ
 χύει και για έναν/μία συνοδό)\, δάσκαλοι-καθηγητές\, ατέλειες.\nΠρονόμια μ
 ελών σε ΜΜΕ\n-Αθηνόραμα Club (Αθηνόραμα): Από Δευτέρα έως και Πέμπτη\, ειδ
 ική τιμή € 5\nΚλείστε ηλεκτρονικά τα εισιτήριά σας στο: https://tickets.ta
 iniothiki.gr/Σημειώνεται πως οι δικαιούχοι μειωμένου εισιτηρίου\, θα πρέπε
 ι να προμηθευτούν τα εισιτήριά τους από το ταμείο της Ταινιοθήκης. \n  htt
 p://tainiothiki.gr/el/aithouses/programma/event/2238-kravges
DTSTART:20260222T170000Z
DTEND:20260222T183000Z
LOCATION:Αίθουσα Β (ΙΕΡΑ ΟΔΟΣ 48\, 104 35\, ΚΕΡΑΜΕΙΚΟΣ\, ΑΘΗΝΑ)
SUMMARY:Κραυγές
URL:http://tainiothiki.gr/el/aithouses/programma/event/2238-kravges
END:VEVENT
END:VCALENDAR
