BEGIN:VCALENDAR
VERSION:2.0
PRODID:-//http://tainiothiki.gr///NONSGML kigkonsult.se iCalcreator 2.10.15//
METHOD:PUBLISH
BEGIN:VEVENT
UID:20260422T172530EEST-6055GpeKeB@http://tainiothiki.gr/
DTSTAMP:20260422T142530Z
DESCRIPTION:ΑΙΘΟΥΣΑ Α\nΤΡΙΤΗ 28/04\nΠροεκλογικές Εκστρατείες: Δημοκρατία ή 
 Χειραγώγηση\n20:00 Καβάλα – Νοέμβρης 1974 (1975\, 46’)Σκηνοθεσία: Μαρία Κο
 μνηνού\, Θόδωρος Αδαμόπουλος\n20:45 Ο κ. Κανένας εναντίον του Πούτιν (Mr. 
 Nobody nod Putin\, 2025\, 90’)Σκηνοθεσία: David Borenstein\, Pavel 'Pasha'
  Talankin\n\n\n \n\nΕΙΣΙΤΗΡΙΑ\nΔευτέρα 27 Απριλίου: Ελεύθερη είσοδος σε πε
 ριορισμένο αριθμό θέσεων\nΤρίτη 28 Απριλίου: 6 ευρώ (γενική είσοδος) http:
 //tainiothiki.gr/el/aithouses/programma/event/2316-proeklogikes-ekstrateie
 s-dimokratia-i-xeiragogisi-imera-2
DTSTART:20260428T150000Z
DTEND:20260428T190000Z
LOCATION:Αίθουσα Α (ΙΕΡΑ ΟΔΟΣ 48\, 104 35\, ΚΕΡΑΜΕΙΚΟΣ\, ΑΘΗΝΑ)
SUMMARY:Προεκλογικές Εκστρατείες: Δημοκρατία ή Χειραγώγηση | Ημέρα 2
URL:http://tainiothiki.gr/el/aithouses/programma/event/2316-proeklogikes-ek
 strateies-dimokratia-i-xeiragogisi-imera-2
END:VEVENT
END:VCALENDAR
