BEGIN:VCALENDAR
VERSION:2.0
PRODID:-//http://tainiothiki.gr///NONSGML kigkonsult.se iCalcreator 2.10.15//
METHOD:PUBLISH
BEGIN:VEVENT
UID:20260425T152359EEST-8219R4lmDV@http://tainiothiki.gr/
DTSTAMP:20260425T122359Z
DESCRIPTION:Οι περιπέτειες του ΒιλλάρΣκηνοθεσία: Ζόζεφ ΧεπΔιάρκεια: 26'Έτος
 : 1924\nΔείτε την ταινία από 8 -11 Απριλίου 2020 εδώ. \nΠροβολή στο πλαίσι
 ο του αφιερώματος 'Η Ταινιοθήκη στο σπίτι'\n http://tainiothiki.gr/el/aith
 ouses/programma/event/86-oi-peripeteies-tou-villar-i-tainiothiki-sto-spiti
DTSTART:20200408T170000Z
DTEND:20200411T170000Z
LOCATION:Στο σπίτι ()
SUMMARY:Οι περιπέτειες του Βιλλάρ | Η Ταινιοθήκη στο σπίτι
URL:http://tainiothiki.gr/el/aithouses/programma/event/86-oi-peripeteies-to
 u-villar-i-tainiothiki-sto-spiti
END:VEVENT
END:VCALENDAR
