BEGIN:VCALENDAR
VERSION:2.0
PRODID:-//http://tainiothiki.gr///NONSGML kigkonsult.se iCalcreator 2.10.15//
METHOD:PUBLISH
BEGIN:VEVENT
UID:20260425T135851EEST-43135mSLZv@http://tainiothiki.gr/
DTSTAMP:20260425T105851Z
DESCRIPTION:ΑΙΘΟΥΣΑ Α\n CINEMA MADE IN ITALY/ ATHENS 2023\nΤΡΙΤΗ 24/10\n21:
 45 Οι υπέροχες / Le Favolose / The Fabulous Ones (Roberta Torre 74'\, 2022
 )\n\n\n\n\n\n\nΕΙΣΙΤΗΡΙΑ CINEMA MADE IN ITALY:\n\nΗλεκτρονική προπώληση: h
 ttps://tickets.tainiothiki.gr/\nΕισιτήριο: 5€. Κάρτα 3 προβολών: 10€\n\nΚΑ
 ΤΑΛΟΓΟΣ - ΠΡΟΓΡΑΜΜΑ\nΟι ταινίες προβάλλονται με ελληνικούς και αγγλικούς υ
 πότιτλους. http://tainiothiki.gr/el/component/rseventspro/event/1132-oi-yp
 eroxes-le-favolose-the-fabulous-ones
DTSTART:20231024T184500Z
DTEND:20231024T200000Z
LOCATION:Αίθουσα Α (ΙΕΡΑ ΟΔΟΣ 48\, 104 35\, ΚΕΡΑΜΕΙΚΟΣ\, ΑΘΗΝΑ)
SUMMARY:Οι υπέροχες / Le Favolose / The Fabulous Ones
URL:http://tainiothiki.gr/el/component/rseventspro/event/1132-oi-yperoxes-l
 e-favolose-the-fabulous-ones
END:VEVENT
END:VCALENDAR
