BEGIN:VCALENDAR
VERSION:2.0
PRODID:-//http://tainiothiki.gr///NONSGML kigkonsult.se iCalcreator 2.10.15//
METHOD:PUBLISH
BEGIN:VEVENT
UID:20260424T164219EEST-0477WUPphn@http://tainiothiki.gr/
DTSTAMP:20260424T134219Z
DESCRIPTION: Το αινιγματικό σινεμά της Angela Schanelec\nΠαρασκευή 8 Δεκεμβ
 ρίου \nΤαινιοθήκη της Ελλάδος\n21.00 Μέρη στις πόλεις / Plätze in Städten 
 110’\n*Ελληνικοί και Γαλλικοί υπότιτλοι\nΠαρουσία της σκηνοθέτριας \n\n\n
 \nΕΙΣΙΤΗΡΙΑ\n\nΑνά προβολή: 5€\nΚάρτα 5 προβολών: 10€\nΠροπώληση (προβολές
  Ταινιοθήκης): https://tickets.tainiothiki.gr\n\n\nΚΑΤΑΛΟΓΟΣ\nhttp://www.t
 ainiothiki.gr/docs/catalogue_schanelec_2023.pdf\n http://tainiothiki.gr/el
 /component/rseventspro/event/1185-meri-stis-poleis-platze-in-stadten
DTSTART:20231208T190000Z
DTEND:20231208T210000Z
LOCATION:Αίθουσα Α (ΙΕΡΑ ΟΔΟΣ 48\, 104 35\, ΚΕΡΑΜΕΙΚΟΣ\, ΑΘΗΝΑ)
SUMMARY:Μέρη στις πόλεις / Plätze in Städten 
URL:http://tainiothiki.gr/el/component/rseventspro/event/1185-meri-stis-pol
 eis-platze-in-stadten
END:VEVENT
END:VCALENDAR
