BEGIN:VCALENDAR
VERSION:2.0
PRODID:-//http://tainiothiki.gr///NONSGML kigkonsult.se iCalcreator 2.10.15//
METHOD:PUBLISH
BEGIN:VEVENT
UID:20260424T164632EEST-8234OHdeci@http://tainiothiki.gr/
DTSTAMP:20260424T134632Z
DESCRIPTION: Το αινιγματικό σινεμά της Angela Schanelec\nΚυριακή 10 Δεκεμβρ
 ίου \n19.00 Η καλότυχη αδελφή μου / Der Glück meiner Schwester\, 85’\n*Ελλ
 ηνικοί και Αγγλικοί υπότιτλοι\nΠαρουσία της σκηνοθέτριας \n\n\n\nΕΙΣΙΤΗΡΙΑ
 \n\nΑνά προβολή: 5€\nΚάρτα 5 προβολών: 10€\nΠροπώληση (προβολές Ταινιοθήκη
 ς): https://tickets.tainiothiki.gr\n\n\nΚΑΤΑΛΟΓΟΣ\nhttp://www.tainiothiki.
 gr/docs/catalogue_schanelec_2023.pdf\n http://tainiothiki.gr/el/component/
 rseventspro/event/1189-i-kalotyxi-adelfi-mou-der-gluck-meiner-schwester
DTSTART:20231210T170000Z
DTEND:20231210T183000Z
LOCATION:Αίθουσα Α (ΙΕΡΑ ΟΔΟΣ 48\, 104 35\, ΚΕΡΑΜΕΙΚΟΣ\, ΑΘΗΝΑ)
SUMMARY:Η καλότυχη αδελφή μου / Der Glück meiner Schwester
URL:http://tainiothiki.gr/el/component/rseventspro/event/1189-i-kalotyxi-ad
 elfi-mou-der-gluck-meiner-schwester
END:VEVENT
END:VCALENDAR
