BEGIN:VCALENDAR
VERSION:2.0
PRODID:-//http://tainiothiki.gr///NONSGML kigkonsult.se iCalcreator 2.10.15//
METHOD:PUBLISH
BEGIN:VEVENT
UID:20260424T162957EEST-63919xhZMj@http://tainiothiki.gr/
DTSTAMP:20260424T132957Z
DESCRIPTION: Το αινιγματικό σινεμά της Angela Schanelec\n Τρίτη 12 Δεκεμβρί
 ου \nΤαινιοθήκη της Ελλάδος\n19.00 Μασσαλία / Marseille\, 92’\n*Ελληνικοί 
 και Αγγλικοί υπότιτλοι\nΠαρουσία της σκηνοθέτριας \n\n\n\nΕΙΣΙΤΗΡΙΑ\n\nΑνά
  προβολή: 5€\nΚάρτα 5 προβολών: 10€\nΠροπώληση (προβολές Ταινιοθήκης): htt
 ps://tickets.tainiothiki.gr\n\n\nΚΑΤΑΛΟΓΟΣ\nhttp://www.tainiothiki.gr/docs
 /catalogue_schanelec_2023.pdf\n http://tainiothiki.gr/el/component/rsevent
 spro/event/1193-massalia-marseille
DTSTART:20231212T170000Z
DTEND:20231212T183000Z
LOCATION:Αίθουσα Α (ΙΕΡΑ ΟΔΟΣ 48\, 104 35\, ΚΕΡΑΜΕΙΚΟΣ\, ΑΘΗΝΑ)
SUMMARY:Mασσαλία / Marseille
URL:http://tainiothiki.gr/el/component/rseventspro/event/1193-massalia-mars
 eille
END:VEVENT
END:VCALENDAR
