BEGIN:VCALENDAR
VERSION:2.0
PRODID:-//http://tainiothiki.gr///NONSGML kigkonsult.se iCalcreator 2.10.15//
METHOD:PUBLISH
BEGIN:VEVENT
UID:20260424T123200EEST-239675B9LN@http://tainiothiki.gr/
DTSTAMP:20260424T093200Z
DESCRIPTION: Νέος Φινλανδικός Κινηματογράφος\nΑΙΘΟΥΣΑ Α\nΠαρασκευή 22 Μαρτί
 ου\n21:30 Τα σκυλιά δε φοράνε παντελόνια / Dogs don’t wear pants / Koirat 
 eivät käytä housuja\n(J-P Valkeapää\, Φινλανδία\, 2019\, μυθοπλασία \, 105
 ’) Παρουσία του σκηνοθέτη\n\n\n\n\nΕΙΣΙΤΗΡΙΑ\nΕισιτήριο: 5€ ανά προβολή Κά
 ρτα 3 προβολών / 10 €\nΗλεκτρονική προπώληση: https://tickets.tainiothiki.
 gr/\nΣημειώνεται πως η κάρτα πολλαπλών προβολών είναι διαθέσιμη μόνο από τ
 ο φυσικό ταμείο της Ταινιοθήκης. \n http://tainiothiki.gr/el/component/rse
 ventspro/event/1342-ta-skylia-de-forane-pantelonia-dogs-don-t-wear-pants-k
 oirat-eivat-kayta-housuja
DTSTART:20240322T193000Z
DTEND:20240322T213000Z
LOCATION:Αίθουσα Α (ΙΕΡΑ ΟΔΟΣ 48\, 104 35\, ΚΕΡΑΜΕΙΚΟΣ\, ΑΘΗΝΑ)
SUMMARY:Τα σκυλιά δε φοράνε παντελόνια / Dogs don’t wear pants / Koirat eiv
 ät käytä housuja
URL:http://tainiothiki.gr/el/component/rseventspro/event/1342-ta-skylia-de-
 forane-pantelonia-dogs-don-t-wear-pants-koirat-eivat-kayta-housuja
END:VEVENT
END:VCALENDAR
