BEGIN:VCALENDAR
VERSION:2.0
PRODID:-//http://tainiothiki.gr///NONSGML kigkonsult.se iCalcreator 2.10.15//
METHOD:PUBLISH
BEGIN:VEVENT
UID:20260424T135414EEST-64094xNTat@http://tainiothiki.gr/
DTSTAMP:20260424T105414Z
DESCRIPTION: Νέος Φινλανδικός Κινηματογράφος\nΑΙΘΟΥΣΑ Α\nΣάββατο 23 Μαρτίου
 \n19:00 Η γυναίκα με τα σπίρτα / The match factory girl / Tulitikkutehtaan
  tyttö\n(Aki Kaurismäki\, Φινλανδία/Σουηδία\, 1990\, μυθοπλασία\, 69’)\n\n
 \n\n\nΕΙΣΙΤΗΡΙΑ\nΕισιτήριο: 5€ ανά προβολή Κάρτα 3 προβολών / 10 €\nΗλεκτρ
 ονική προπώληση: https://tickets.tainiothiki.gr/\nΣημειώνεται πως η κάρτα 
 πολλαπλών προβολών είναι διαθέσιμη μόνο από το φυσικό ταμείο της Ταινιοθήκ
 ης. \n http://tainiothiki.gr/el/component/rseventspro/event/1343-i-gynaika
 -me-ta-spirta-the-match-factory-girl-tulitikkutehtaan-tyttoe
DTSTART:20240323T170000Z
DTEND:20240323T181500Z
LOCATION:Αίθουσα Α (ΙΕΡΑ ΟΔΟΣ 48\, 104 35\, ΚΕΡΑΜΕΙΚΟΣ\, ΑΘΗΝΑ)
SUMMARY:Η γυναίκα με τα σπίρτα / The match factory girl / Tulitikkutehtaan 
 tyttö
URL:http://tainiothiki.gr/el/component/rseventspro/event/1343-i-gynaika-me-
 ta-spirta-the-match-factory-girl-tulitikkutehtaan-tyttoe
END:VEVENT
END:VCALENDAR
