BEGIN:VCALENDAR
VERSION:2.0
PRODID:-//http://tainiothiki.gr///NONSGML kigkonsult.se iCalcreator 2.10.15//
METHOD:PUBLISH
BEGIN:VEVENT
UID:20260421T122249EEST-5102KX4SRa@http://tainiothiki.gr/
DTSTAMP:20260421T092249Z
DESCRIPTION:Αστυγραφίες στην Οθόνη\nΑΙΘΟΥΣΑ Α\nΠαρασκευή 12 Απριλίου\n19:00
  Πικρό ψωμί\n(Γρηγόρης Γρηγορίου\, 83’)\nΠρολογίζει η Άννα Πούπου\, Επίκου
 ρη καθηγήτρια Τμ. Ψηφιακών Μέσων και Κινηματογράφου ΕΚΠΑ\n\n\n\n\n\nΕΙΣΙΤΗ
 ΡΙΑ\nΕισιτήριο: 5€ ανά προβολή Κάρτα 3 προβολών / 10 €\nΗλεκτρονική προπώλ
 ηση: https://tickets.tainiothiki.gr/\nΣημειώνεται πως η κάρτα πολλαπλών πρ
 οβολών είναι διαθέσιμη μόνο από το φυσικό ταμείο της Ταινιοθήκης. \n http:
 //tainiothiki.gr/el/component/rseventspro/event/1390-pikro-psomi
DTSTART:20240412T160000Z
DTEND:20240412T173000Z
LOCATION:Αίθουσα Α (ΙΕΡΑ ΟΔΟΣ 48\, 104 35\, ΚΕΡΑΜΕΙΚΟΣ\, ΑΘΗΝΑ)
SUMMARY:Πικρό ψωμί
URL:http://tainiothiki.gr/el/component/rseventspro/event/1390-pikro-psomi
END:VEVENT
END:VCALENDAR
