BEGIN:VCALENDAR
VERSION:2.0
PRODID:-//http://tainiothiki.gr///NONSGML kigkonsult.se iCalcreator 2.10.15//
METHOD:PUBLISH
BEGIN:VEVENT
UID:20260425T224922EEST-9156BzILpR@http://tainiothiki.gr/
DTSTAMP:20260425T194922Z
DESCRIPTION:Σάββατο | Saturday 12.09.2020\n22:30 Μαουρίτσιο Κατελάν: Επιστρ
 έφω σε Λίγο | Maurizio Cattelan: Be Right Back\, Maura Axelrod\, 94'\, 201
 6 \nΠροβολή στο πλαίσιο του αφιερώματος Art + Docs: Στο μυαλό του καλλιτέχ
 νη\n\n\n\n\n\nΕισιτήρια 5.00€ από το ταμείο της Ταινιοθήκης.\n\n\n http://
 tainiothiki.gr/el/component/rseventspro/event/147-maouritsio-katelan-epist
 refo-se-ligo-maurizio-cattelan-be-right-back
DTSTART:20200912T193000Z
DTEND:20200912T213000Z
LOCATION:Θερινό Λαΐς (ΙΕΡΑ ΟΔΟΣ 48\, 104 35\, ΚΕΡΑΜΕΙΚΟΣ\, ΑΘΗΝΑ	)
SUMMARY:Μαουρίτσιο Κατελάν: Επιστρέφω σε Λίγο | Maurizio Cattelan: Be Right
  Back
URL:http://tainiothiki.gr/el/component/rseventspro/event/147-maouritsio-kat
 elan-epistrefo-se-ligo-maurizio-cattelan-be-right-back
END:VEVENT
END:VCALENDAR
