BEGIN:VCALENDAR
VERSION:2.0
PRODID:-//http://tainiothiki.gr///NONSGML kigkonsult.se iCalcreator 2.10.15//
METHOD:PUBLISH
BEGIN:VEVENT
UID:20260425T224644EEST-7112NLCv9w@http://tainiothiki.gr/
DTSTAMP:20260425T194644Z
DESCRIPTION:\n\n\nΤρίτη | Tuesday 15.09.2020\n20:30 Κόντρα στον Άνεμο | Lea
 ning Into the Wind: Andy Goldsworthy\, Thomas Riedelsheimer\, 93'\, 2017\n
 Προβολή στο πλαίσιο του αφιερώματος Art + Docs: Στο μυαλό του καλλιτέχνη\n
 \n\n\n\n\nΕισιτήρια 5.00€ από το ταμείο της Ταινιοθήκης.\n\n\n\n\n\n http:
 //tainiothiki.gr/el/component/rseventspro/event/151-kontra-ston-anemo-lean
 ing-into-the-wind-andy-goldsworthy
DTSTART:20200915T173000Z
DTEND:20200915T191500Z
LOCATION:Θερινό Λαΐς (ΙΕΡΑ ΟΔΟΣ 48\, 104 35\, ΚΕΡΑΜΕΙΚΟΣ\, ΑΘΗΝΑ	)
SUMMARY:Κόντρα στον Άνεμο | Leaning Into the Wind: Andy Goldsworthy
URL:http://tainiothiki.gr/el/component/rseventspro/event/151-kontra-ston-an
 emo-leaning-into-the-wind-andy-goldsworthy
END:VEVENT
END:VCALENDAR
