BEGIN:VCALENDAR
VERSION:2.0
PRODID:-//http://tainiothiki.gr///NONSGML kigkonsult.se iCalcreator 2.10.15//
METHOD:PUBLISH
BEGIN:VEVENT
UID:20260423T143052EEST-8026kgNXLW@http://tainiothiki.gr/
DTSTAMP:20260423T113052Z
DESCRIPTION:13ο Φεστιβάλ Πρωτοποριακού Κινηματογράφου Αθηνών | 13th Athens 
 Avant Garde Film Festival\nΑΙΘΟΥΣΑ Α\nΚΥΡΙΑΚΗ 15 ΔΕΚΕΜΒΡΙΟΥ\n18:30 Μια ται
 νία Φιντάι | A Fidai Film (Kamal Aljafari\, 2024\, Ντοκιμαντέρ / Documenta
 ry\, 78’\, Παλαιστίνη\, Γερμανία\, Κατάρ\, Βραζιλία\, Γαλλία / Palestine\,
  Germany\, Qatar\, Brazil\, France)\nΠαρουσία του σκηνοθέτη / Director in 
 attendance\n \n\n\n\n\n\n\n\nΕΙΣΙΤΗΡΙΑ\nΕισιτήρια (ΑΙΘΟΥΣΕΣ): 6€ (γενική ε
 ίσοδος)Πακέτα: 5 προβολές/25€ \, 10 προβολές/35€ Προσφορά: Φοιτητικό - Παι
 δικό – ΑμεΑ -Ανέργοι - Ατέλειες - Άνω των 65 ετών: 10 προβολές/25€\nΗλεκτρ
 ονική προπώληση: https://tickets.tainiothiki.gr/\n\n \n http://tainiothiki
 .gr/el/component/rseventspro/event/1649-mia-tainia-fintai-a-fidai-film-13o
 -fpka
DTSTART:20241215T163000Z
DTEND:20241215T180000Z
LOCATION:Αίθουσα Α (ΙΕΡΑ ΟΔΟΣ 48\, 104 35\, ΚΕΡΑΜΕΙΚΟΣ\, ΑΘΗΝΑ)
SUMMARY:Μια ταινία Φιντάι / A Fidai Film | 13o ΦΠΚΑ
URL:http://tainiothiki.gr/el/component/rseventspro/event/1649-mia-tainia-fi
 ntai-a-fidai-film-13o-fpka
END:VEVENT
END:VCALENDAR
