BEGIN:VCALENDAR
VERSION:2.0
PRODID:-//http://tainiothiki.gr///NONSGML kigkonsult.se iCalcreator 2.10.15//
METHOD:PUBLISH
BEGIN:VEVENT
UID:20260423T141903EEST-9967K1Wtot@http://tainiothiki.gr/
DTSTAMP:20260423T111903Z
DESCRIPTION:ΑΙΘΟΥΣΑ Β\nΗ πτώση των δικτατοριών και η άνθιση του νέου κινημα
 τογράφου: Ελλάδα – Ισπανία – Πορτογαλία\nΤρίτη 18 Μαρτίου\n19:15 Παράλληλε
 ς μητέρες | Madres paralelas | Parallel Mothers (Pedro Almodóvar\, 2021\, 
 Ισπανία\, Γαλλία\, ΗΠΑ / Spain\, France\, United States\, Μυθοπλασία / Fic
 tion\, 123’)\n\n\n   \n\n\nΕΙΣΙΤΗΡΙΑ\n6 ευρώ (γενική είσοδος)\nΚλείστε ηλε
 κτρονικά τα εισιτήριά σας στο: https://tickets.tainiothiki.gr/ http://tain
 iothiki.gr/el/component/rseventspro/event/1778-paralliles-miteres-parallel
 -mothers
DTSTART:20250318T171500Z
DTEND:20250318T190000Z
LOCATION:Αίθουσα Β (ΙΕΡΑ ΟΔΟΣ 48\, 104 35\, ΚΕΡΑΜΕΙΚΟΣ\, ΑΘΗΝΑ)
SUMMARY:Παράλληλες Μητέρες | Parallel Mothers
URL:http://tainiothiki.gr/el/component/rseventspro/event/1778-paralliles-mi
 teres-parallel-mothers
END:VEVENT
END:VCALENDAR
