BEGIN:VCALENDAR
VERSION:2.0
PRODID:-//http://tainiothiki.gr///NONSGML kigkonsult.se iCalcreator 2.10.15//
METHOD:PUBLISH
BEGIN:VEVENT
UID:20260421T211001EEST-34253ojcoA@http://tainiothiki.gr/
DTSTAMP:20260421T181001Z
DESCRIPTION:ΑΙΘΟΥΣΑ Β\nΗ πτώση των δικτατοριών και η άνθιση του νέου κινημα
 τογράφου: Ελλάδα – Ισπανία – Πορτογαλία\nΤρίτη 18 Μαρτίου\n21:30 Η ακτή πο
 υ σιγοψιθυρίζει | A costa dos murmurios | The Murmuring Coast (Margarida C
 ardoso\, 2004\, Πορτογαλία\, Γαλλία\, Γερμανία / Portugal\, France\, Germa
 ny\, Μυθοπλασία / Fiction\, 120’)\n\n\n\n   \n\n\nΕΙΣΙΤΗΡΙΑ\n6 ευρώ (γενικ
 ή είσοδος)\nΚλείστε ηλεκτρονικά τα εισιτήριά σας στο: https://tickets.tain
 iothiki.gr/ http://tainiothiki.gr/el/component/rseventspro/event/1779-i-ak
 ti-pou-sigopsithyrizei-the-murmuring-coast
DTSTART:20250318T193000Z
DTEND:20250318T213000Z
LOCATION:Αίθουσα Β (ΙΕΡΑ ΟΔΟΣ 48\, 104 35\, ΚΕΡΑΜΕΙΚΟΣ\, ΑΘΗΝΑ)
SUMMARY:Η ακτή που σιγοψιθυρίζει | The Murmuring Coast
URL:http://tainiothiki.gr/el/component/rseventspro/event/1779-i-akti-pou-si
 gopsithyrizei-the-murmuring-coast
END:VEVENT
END:VCALENDAR
