BEGIN:VCALENDAR
VERSION:2.0
PRODID:-//http://tainiothiki.gr///NONSGML kigkonsult.se iCalcreator 2.10.15//
METHOD:PUBLISH
BEGIN:VEVENT
UID:20260422T004704EEST-0164iNrHmC@http://tainiothiki.gr/
DTSTAMP:20260421T214704Z
DESCRIPTION:Θερινός Κινηματογράφος Λαΐς\nΟ Μίκης Θεοδωράκης στη μεγάλη οθόν
 η\nΠαρασκευή 27 Ιουνιόυ\n23:15 Ταξιδεύοντας με τον Μίκη (Αστέρης Κούτουλας
 \, 87')\n\n\n \n\nΕΙΣΙΤΗΡΙΑ\n6 ευρώ (γενική είσοδος) \nΗλεκτρονική προπώλη
 ση εδώ\n   \n http://tainiothiki.gr/el/component/rseventspro/event/1898-ta
 ksideyontas-me-ton-miki
DTSTART:20250627T201500Z
DTEND:20250627T205900Z
LOCATION:Θερινό Λαΐς (ΙΕΡΑ ΟΔΟΣ 48\, 104 35\, ΚΕΡΑΜΕΙΚΟΣ\, ΑΘΗΝΑ	)
SUMMARY:Ταξιδεύοντας με τον Μίκη
URL:http://tainiothiki.gr/el/component/rseventspro/event/1898-taksideyontas
 -me-ton-miki
END:VEVENT
END:VCALENDAR
