BEGIN:VCALENDAR
VERSION:2.0
PRODID:-//http://tainiothiki.gr///NONSGML kigkonsult.se iCalcreator 2.10.15//
METHOD:PUBLISH
BEGIN:VEVENT
UID:20260421T192144EEST-94458u3oGl@http://tainiothiki.gr/
DTSTAMP:20260421T162144Z
DESCRIPTION:Θερινός Κινηματογράφος Λαΐς\nΟ Μίκης Θεοδωράκης στη μεγάλη οθόν
 η\nΚυριακή 29 Ιουνιόυ\n21:00 Κατάσταση πολιορκίας (Κώστας Γαβράς\, 130')\n
 \n\n \n\nΕΙΣΙΤΗΡΙΑ\n6 ευρώ (γενική είσοδος) \nΗλεκτρονική προπώληση εδώ\n 
   \n http://tainiothiki.gr/el/component/rseventspro/event/1901-katastasi-p
 oliorkias
DTSTART:20250629T180000Z
DTEND:20250629T201000Z
LOCATION:Θερινό Λαΐς (ΙΕΡΑ ΟΔΟΣ 48\, 104 35\, ΚΕΡΑΜΕΙΚΟΣ\, ΑΘΗΝΑ	)
SUMMARY:Κατάσταση πολιορκίας
URL:http://tainiothiki.gr/el/component/rseventspro/event/1901-katastasi-pol
 iorkias
END:VEVENT
END:VCALENDAR
